Workbook

Sheet base itens II (não mexer)
A1: REF | B1: SIG | C1: COR | D1: REF TABELA | E1: QTD | F1: Valor
A2: Viseiras Compatíveis com Capacetes Importados COM Tratamento Resistente a Riscos
A4: 1704 | B4: C | D4: =CONCATENATE(A4,B4) -> 1704C | E4: =VLOOKUP(A4,#REF!,5,0) -> #REF! | F4: =VLOOKUP(A4,#REF!,6,0) -> #REF!
A5: 1783 | B5: C | D5: =CONCATENATE(A5,B5) -> 1783C | E5: =VLOOKUP(A5,#REF!,5,0) -> #REF! | F5: =VLOOKUP(A5,#REF!,6,0) -> #REF!
A6: 1659 | B6: C | D6: =CONCATENATE(A6,B6) -> 1659C | E6: =VLOOKUP(A6,#REF!,5,0) -> #REF! | F6: =VLOOKUP(A6,#REF!,6,0) -> #REF!
A7: 1778 | B7: C | D7: =CONCATENATE(A7,B7) -> 1778C | E7: =VLOOKUP(A7,#REF!,5,0) -> #REF! | F7: =VLOOKUP(A7,#REF!,6,0) -> #REF!
A8: 1770 | B8: C | D8: =CONCATENATE(A8,B8) -> 1770C | E8: =VLOOKUP(A8,#REF!,5,0) -> #REF! | F8: =VLOOKUP(A8,#REF!,6,0) -> #REF!
A9: 1771 | B9: C | D9: =CONCATENATE(A9,B9) -> 1771C | E9: =VLOOKUP(A9,#REF!,5,0) -> #REF! | F9: =VLOOKUP(A9,#REF!,6,0) -> #REF!
A10: 1757 | B10: C | D10: =CONCATENATE(A10,B10) -> 1757C | E10: =VLOOKUP(A10,#REF!,5,0) -> #REF! | F10: =VLOOKUP(A10,#REF!,6,0) -> #REF!
A11: 1742 | B11: C | D11: =CONCATENATE(A11,B11) -> 1742C | E11: =VLOOKUP(A11,#REF!,5,0) -> #REF! | F11: =VLOOKUP(A11,#REF!,6,0) -> #REF!
A12: 1772 | B12: C | D12: =CONCATENATE(A12,B12) -> 1772C | E12: =VLOOKUP(A12,#REF!,5,0) -> #REF! | F12: =VLOOKUP(A12,#REF!,6,0) -> #REF!
A13: 1755 | B13: C | D13: =CONCATENATE(A13,B13) -> 1755C | E13: =VLOOKUP(A13,#REF!,5,0) -> #REF! | F13: =VLOOKUP(A13,#REF!,6,0) -> #REF!
A14: 1785 | B14: C | D14: =CONCATENATE(A14,B14) -> 1785C | E14: =VLOOKUP(A14,#REF!,5,0) -> #REF! | F14: =VLOOKUP(A14,#REF!,6,0) -> #REF!
A15: 1789 | B15: C | D15: =CONCATENATE(A15,B15) -> 1789C | E15: =VLOOKUP(A15,#REF!,5,0) -> #REF! | F15: =VLOOKUP(A15,#REF!,6,0) -> #REF!
... A22: 1794 | B22: C | D22: =CONCATENATE(A22,B22) -> 1794C | E22: =VLOOKUP(A22,#REF!,5,0) -> #REF! | F22: =VLOOKUP(A22,#REF!,6,0) -> #REF!
A32: 1704 | B32: F | D32: =CONCATENATE(A32,B32) -> 1704F | E32: =VLOOKUP(A32,#REF!,8,0) -> #REF! | F32: =VLOOKUP(A32,#REF!,9,0) -> #REF!
A33: 1783 | B33: F | D33: =CONCATENATE(A33,B33) -> 1783F | E33: =VLOOKUP(A33,#REF!,8,0) -> #REF! | F33: =VLOOKUP(A33,#REF!,9,0) -> #REF!
A34: 1659 | B34: F | D34: =CONCATENATE(A34,B34) -> 1659F | E34: =VLOOKUP(A34,#REF!,8,0) -> #REF! | F34: =VLOOKUP(A34,#REF!,9,0) -> #REF!
A35: 1778 | B35: F | D35: =CONCATENATE(A35,B35) -> 1778F | E35: =VLOOKUP(A35,#REF!,8,0) -> #REF! | F35: =VLOOKUP(A35,#REF!,9,0) -> #REF!
A36: 1770 | B36: F | D36: =CONCATENATE(A36,B36) -> 1770F | E36: =VLOOKUP(A36,#REF!,8,0) -> #REF! | F36: =VLOOKUP(A36,#REF!,9,0) -> #REF!
A37: 1771 | B37: F | D37: =CONCATENATE(A37,B37) -> 1771F | E37: =VLOOKUP(A37,#REF!,8,0) -> #REF! | F37: =VLOOKUP(A37,#REF!,9,0) -> #REF!
A38: 1757 | B38: F | D38: =CONCATENATE(A38,B38) -> 1757F | E38: =VLOOKUP(A38,#REF!,8,0) -> #REF! | F38: =VLOOKUP(A38,#REF!,9,0) -> #REF!
A39: 1742 | B39: F | D39: =CONCATENATE(A39,B39) -> 1742F | E39: =VLOOKUP(A39,#REF!,8,0) -> #REF! | F39: =VLOOKUP(A39,#REF!,9,0) -> #REF!
A40: 1772 | B40: F | D40: =CONCATENATE(A40,B40) -> 1772F | E40: =VLOOKUP(A40,#REF!,8,0) -> #REF! | F40: =VLOOKUP(A40,#REF!,9,0) -> #REF!
A41: 1755 | B41: F | D41: =CONCATENATE(A41,B41) -> 1755F | E41: =VLOOKUP(A41,#REF!,8,0) -> #REF! | F41: =VLOOKUP(A41,#REF!,9,0) -> #REF!
A42: 1785 | B42: F | D42: =CONCATENATE(A42,B42) -> 1785F | E42: =VLOOKUP(A42,#REF!,8,0) -> #REF! | F42: =VLOOKUP(A42,#REF!,9,0) -> #REF!
A43: 1789 | B43: F | D43: =CONCATENATE(A43,B43) -> 1789F | E43: =VLOOKUP(A43,#REF!,8,0) -> #REF! | F43: =VLOOKUP(A43,#REF!,9,0) -> #REF!
... A50: 1794 | B50: F | D50: =CONCATENATE(A50,B50) -> 1794F | E50: =VLOOKUP(A50,#REF!,8,0) -> #REF! | F50: =VLOOKUP(A50,#REF!,9,0) -> #REF!
A70: 1704 | B70: CA | D70: =CONCATENATE(A70,B70) -> 1704CA | E70: =VLOOKUP(A70,#REF!,11,0) -> #REF! | F70: =VLOOKUP(A70,#REF!,18,0) -> #REF!
A71: 1783 | B71: CA | D71: =CONCATENATE(A71,B71) -> 1783CA | E71: =VLOOKUP(A71,#REF!,11,0) -> #REF! | F71: =VLOOKUP(A71,#REF!,18,0) -> #REF!
A72: 1659 | B72: CA | D72: =CONCATENATE(A72,B72) -> 1659CA | E72: =VLOOKUP(A72,#REF!,11,0) -> #REF! | F72: =VLOOKUP(A72,#REF!,18,0) -> #REF!
A73: 1778 | B73: CA | D73: =CONCATENATE(A73,B73) -> 1778CA | E73: =VLOOKUP(A73,#REF!,11,0) -> #REF! | F73: =VLOOKUP(A73,#REF!,18,0) -> #REF!
A74: 1770 | B74: CA | D74: =CONCATENATE(A74,B74) -> 1770CA | E74: =VLOOKUP(A74,#REF!,11,0) -> #REF! | F74: =VLOOKUP(A74,#REF!,18,0) -> #REF!
A75: 1771 | B75: CA | D75: =CONCATENATE(A75,B75) -> 1771CA | E75: =VLOOKUP(A75,#REF!,11,0) -> #REF! | F75: =VLOOKUP(A75,#REF!,18,0) -> #REF!
A76: 1757 | B76: CA | D76: =CONCATENATE(A76,B76) -> 1757CA | E76: =VLOOKUP(A76,#REF!,11,0) -> #REF! | F76: =VLOOKUP(A76,#REF!,18,0) -> #REF!
A77: 1742 | B77: CA | D77: =CONCATENATE(A77,B77) -> 1742CA | E77: =VLOOKUP(A77,#REF!,11,0) -> #REF! | F77: =VLOOKUP(A77,#REF!,18,0) -> #REF!
A78: 1772 | B78: CA | D78: =CONCATENATE(A78,B78) -> 1772CA | E78: =VLOOKUP(A78,#REF!,11,0) -> #REF! | F78: =VLOOKUP(A78,#REF!,18,0) -> #REF!
A79: 1755 | B79: CA | D79: =CONCATENATE(A79,B79) -> 1755CA | E79: =VLOOKUP(A79,#REF!,11,0) -> #REF! | F79: =VLOOKUP(A79,#REF!,18,0) -> #REF!
A80: 1785 | B80: CA | D80: =CONCATENATE(A80,B80) -> 1785CA | E80: =VLOOKUP(A80,#REF!,11,0) -> #REF! | F80: =VLOOKUP(A80,#REF!,18,0) -> #REF!
A81: 1789 | B81: CA | D81: =CONCATENATE(A81,B81) -> 1789CA | E81: =VLOOKUP(A81,#REF!,11,0) -> #REF! | F81: =VLOOKUP(A81,#REF!,18,0) -> #REF!
... A88: 1794 | B88: CA | D88: =CONCATENATE(A88,B88) -> 1794CA | E88: =VLOOKUP(A88,#REF!,11,0) -> #REF! | F88: =VLOOKUP(A88,#REF!,18,0) -> #REF!
A96: 1704 | B96: IR | D96: =CONCATENATE(A96,B96) -> 1704IR | E96: =VLOOKUP(A96,#REF!,13,0) -> #REF! | F96: =VLOOKUP(A96,#REF!,18,0) -> #REF!
A97: 1783 | B97: IR | D97: =CONCATENATE(A97,B97) -> 1783IR | E97: =VLOOKUP(A97,#REF!,13,0) -> #REF! | F97: =VLOOKUP(A97,#REF!,18,0) -> #REF!
A98: 1659 | B98: IR | D98: =CONCATENATE(A98,B98) -> 1659IR | E98: =VLOOKUP(A98,#REF!,13,0) -> #REF! | F98: =VLOOKUP(A98,#REF!,18,0) -> #REF!
A99: 1778 | B99: IR | D99: =CONCATENATE(A99,B99) -> 1778IR | E99: =VLOOKUP(A99,#REF!,13,0) -> #REF! | F99: =VLOOKUP(A99,#REF!,18,0) -> #REF!
A100: 1770 | B100: IR | D100: =CONCATENATE(A100,B100) -> 1770IR | E100: =VLOOKUP(A100,#REF!,13,0) -> #REF! | F100: =VLOOKUP(A100,#REF!,18,0) -> #REF!
A101: 1771 | B101: IR | D101: =CONCATENATE(A101,B101) -> 1771IR | E101: =VLOOKUP(A101,#REF!,13,0) -> #REF! | F101: =VLOOKUP(A101,#REF!,18,0) -> #REF!
A102: 1757 | B102: IR | D102: =CONCATENATE(A102,B102) -> 1757IR | E102: =VLOOKUP(A102,#REF!,13,0) -> #REF! | F102: =VLOOKUP(A102,#REF!,18,0) -> #REF!
A103: 1742 | B103: IR | D103: =CONCATENATE(A103,B103) -> 1742IR | E103: =VLOOKUP(A103,#REF!,13,0) -> #REF! | F103: =VLOOKUP(A103,#REF!,18,0) -> #REF!
A104: 1772 | B104: IR | D104: =CONCATENATE(A104,B104) -> 1772IR | E104: =VLOOKUP(A104,#REF!,13,0) -> #REF! | F104: =VLOOKUP(A104,#REF!,18,0) -> #REF!
A105: 1755 | B105: IR | D105: =CONCATENATE(A105,B105) -> 1755IR | E105: =VLOOKUP(A105,#REF!,13,0) -> #REF! | F105: =VLOOKUP(A105,#REF!,18,0) -> #REF!
A106: 1785 | B106: IR | D106: =CONCATENATE(A106,B106) -> 1785IR | E106: =VLOOKUP(A106,#REF!,13,0) -> #REF! | F106: =VLOOKUP(A106,#REF!,18,0) -> #REF!
A107: 1789 | B107: IR | D107: =CONCATENATE(A107,B107) -> 1789IR | E107: =VLOOKUP(A107,#REF!,13,0) -> #REF! | F107: =VLOOKUP(A107,#REF!,18,0) -> #REF!
... A114: 1794 | B114: IR | D114: =CONCATENATE(A114,B114) -> 1794IR | E114: =VLOOKUP(A114,#REF!,13,0) -> #REF! | F114: =VLOOKUP(A114,#REF!,18,0) -> #REF!
A123: 1704 | B123: CR | D123: =CONCATENATE(A123,B123) -> 1704CR | E123: =VLOOKUP(A123,#REF!,15,0) -> #REF! | F123: =VLOOKUP(A123,#REF!,18,0) -> #REF!
A124: 1783 | B124: CR | D124: =CONCATENATE(A124,B124) -> 1783CR | E124: =VLOOKUP(A124,#REF!,15,0) -> #REF! | F124: =VLOOKUP(A124,#REF!,18,0) -> #REF!
A125: 1659 | B125: CR | D125: =CONCATENATE(A125,B125) -> 1659CR | E125: =VLOOKUP(A125,#REF!,15,0) -> #REF! | F125: =VLOOKUP(A125,#REF!,18,0) -> #REF!
A126: 1778 | B126: CR | D126: =CONCATENATE(A126,B126) -> 1778CR | E126: =VLOOKUP(A126,#REF!,15,0) -> #REF! | F126: =VLOOKUP(A126,#REF!,18,0) -> #REF!
A127: 1770 | B127: CR | D127: =CONCATENATE(A127,B127) -> 1770CR | E127: =VLOOKUP(A127,#REF!,15,0) -> #REF! | F127: =VLOOKUP(A127,#REF!,18,0) -> #REF!
A128: 1771 | B128: CR | D128: =CONCATENATE(A128,B128) -> 1771CR | E128: =VLOOKUP(A128,#REF!,15,0) -> #REF! | F128: =VLOOKUP(A128,#REF!,18,0) -> #REF!
A129: 1757 | B129: CR | D129: =CONCATENATE(A129,B129) -> 1757CR | E129: =VLOOKUP(A129,#REF!,15,0) -> #REF! | F129: =VLOOKUP(A129,#REF!,18,0) -> #REF!
A130: 1742 | B130: CR | D130: =CONCATENATE(A130,B130) -> 1742CR | E130: =VLOOKUP(A130,#REF!,15,0) -> #REF! | F130: =VLOOKUP(A130,#REF!,18,0) -> #REF!
A131: 1772 | B131: CR | D131: =CONCATENATE(A131,B131) -> 1772CR | E131: =VLOOKUP(A131,#REF!,15,0) -> #REF! | F131: =VLOOKUP(A131,#REF!,18,0) -> #REF!
A132: 1755 | B132: CR | D132: =CONCATENATE(A132,B132) -> 1755CR | E132: =VLOOKUP(A132,#REF!,15,0) -> #REF! | F132: =VLOOKUP(A132,#REF!,18,0) -> #REF!
A133: 1785 | B133: CR | D133: =CONCATENATE(A133,B133) -> 1785CR | E133: =VLOOKUP(A133,#REF!,15,0) -> #REF! | F133: =VLOOKUP(A133,#REF!,18,0) -> #REF!
A134: 1789 | B134: CR | D134: =CONCATENATE(A134,B134) -> 1789CR | E134: =VLOOKUP(A134,#REF!,15,0) -> #REF! | F134: =VLOOKUP(A134,#REF!,18,0) -> #REF!
... A141: 1794 | B141: CR | D141: =CONCATENATE(A141,B141) -> 1794CR | E141: =VLOOKUP(A141,#REF!,15,0) -> #REF! | F141: =VLOOKUP(A141,#REF!,18,0) -> #REF!
A151: 1704 | B151: DO | D151: =CONCATENATE(A151,B151) -> 1704DO | E151: =VLOOKUP(A151,#REF!,17,0) -> #REF! | F151: =VLOOKUP(A151,#REF!,18,0) -> #REF!
A152: 1783 | B152: DO | D152: =CONCATENATE(A152,B152) -> 1783DO | E152: =VLOOKUP(A152,#REF!,17,0) -> #REF! | F152: =VLOOKUP(A152,#REF!,18,0) -> #REF!
A153: 1659 | B153: DO | D153: =CONCATENATE(A153,B153) -> 1659DO | E153: =VLOOKUP(A153,#REF!,17,0) -> #REF! | F153: =VLOOKUP(A153,#REF!,18,0) -> #REF!
A154: 1778 | B154: DO | D154: =CONCATENATE(A154,B154) -> 1778DO | E154: =VLOOKUP(A154,#REF!,17,0) -> #REF! | F154: =VLOOKUP(A154,#REF!,18,0) -> #REF!
A155: 1770 | B155: DO | D155: =CONCATENATE(A155,B155) -> 1770DO | E155: =VLOOKUP(A155,#REF!,17,0) -> #REF! | F155: =VLOOKUP(A155,#REF!,18,0) -> #REF!
A156: 1771 | B156: DO | D156: =CONCATENATE(A156,B156) -> 1771DO | E156: =VLOOKUP(A156,#REF!,17,0) -> #REF! | F156: =VLOOKUP(A156,#REF!,18,0) -> #REF!
A157: 1757 | B157: DO | D157: =CONCATENATE(A157,B157) -> 1757DO | E157: =VLOOKUP(A157,#REF!,17,0) -> #REF! | F157: =VLOOKUP(A157,#REF!,18,0) -> #REF!
A158: 1742 | B158: DO | D158: =CONCATENATE(A158,B158) -> 1742DO | E158: =VLOOKUP(A158,#REF!,17,0) -> #REF! | F158: =VLOOKUP(A158,#REF!,18,0) -> #REF!
A159: 1772 | B159: DO | D159: =CONCATENATE(A159,B159) -> 1772DO | E159: =VLOOKUP(A159,#REF!,17,0) -> #REF! | F159: =VLOOKUP(A159,#REF!,18,0) -> #REF!
A160: 1755 | B160: DO | D160: =CONCATENATE(A160,B160) -> 1755DO | E160: =VLOOKUP(A160,#REF!,17,0) -> #REF! | F160: =VLOOKUP(A160,#REF!,18,0) -> #REF!
A161: 1785 | B161: DO | D161: =CONCATENATE(A161,B161) -> 1785DO | E161: =VLOOKUP(A161,#REF!,17,0) -> #REF! | F161: =VLOOKUP(A161,#REF!,18,0) -> #REF!
A162: 1789 | B162: DO | D162: =CONCATENATE(A162,B162) -> 1789DO | E162: =VLOOKUP(A162,#REF!,17,0) -> #REF! | F162: =VLOOKUP(A162,#REF!,18,0) -> #REF!
... A169: 1794 | B169: DO | D169: =CONCATENATE(A169,B169) -> 1794DO | E169: =VLOOKUP(A169,#REF!,17,0) -> #REF! | F169: =VLOOKUP(A169,#REF!,18,0) -> #REF!
A176: Viseiras MULTICOMPATÍVEIS com Capacetes Importados COM Tratamento Resistente a Riscos
A178: 1695 | B178: C | D178: =CONCATENATE(A178,B178) -> 1695C | E178: =VLOOKUP(A178,#REF!,5,0) -> #REF! | F178: =VLOOKUP(A178,#REF!,6,0) -> #REF!
B179: C | D179: =CONCATENATE(A179,B179) -> C | E179: =VLOOKUP(A179,#REF!,5,0) -> #REF! | F179: =VLOOKUP(A179,#REF!,6,0) -> #REF!
B180: C | D180: =CONCATENATE(A180,B180) -> C | E180: =VLOOKUP(A180,#REF!,5,0) -> #REF! | F180: =VLOOKUP(A180,#REF!,6,0) -> #REF!
B181: C | D181: =CONCATENATE(A181,B181) -> C | E181: =VLOOKUP(A181,#REF!,5,0) -> #REF! | F181: =VLOOKUP(A181,#REF!,6,0) -> #REF!
B182: C | D182: =CONCATENATE(A182,B182) -> C | E182: =VLOOKUP(A182,#REF!,5,0) -> #REF! | F182: =VLOOKUP(A182,#REF!,6,0) -> #REF!
B183: C | D183: =CONCATENATE(A183,B183) -> C | E183: =VLOOKUP(A183,#REF!,5,0) -> #REF! | F183: =VLOOKUP(A183,#REF!,6,0) -> #REF!
A184: 1735 | B184: C | D184: =CONCATENATE(A184,B184) -> 1735C | E184: =VLOOKUP(A184,#REF!,5,0) -> #REF! | F184: =VLOOKUP(A184,#REF!,6,0) -> #REF!
B185: C | D185: =CONCATENATE(A185,B185) -> C | E185: =VLOOKUP(A185,#REF!,5,0) -> #REF! | F185: =VLOOKUP(A185,#REF!,6,0) -> #REF!
B186: C | E186: =VLOOKUP(A186,#REF!,5,0) -> #REF! | F186: =VLOOKUP(A186,#REF!,6,0) -> #REF!
B187: C | D187: =CONCATENATE(A187,B187) -> C | E187: =VLOOKUP(A187,#REF!,5,0) -> #REF! | F187: =VLOOKUP(A187,#REF!,6,0) -> #REF!
A188: 1664 | B188: C | D188: =CONCATENATE(A188,B188) -> 1664C | E188: =VLOOKUP(A188,#REF!,5,0) -> #REF! | F188: =VLOOKUP(A188,#REF!,6,0) -> #REF!
B189: C | D189: =CONCATENATE(A189,B189) -> C | E189: =VLOOKUP(A189,#REF!,5,0) -> #REF! | F189: =VLOOKUP(A189,#REF!,6,0) -> #REF!
B190: C | D190: =CONCATENATE(A190,B190) -> C | E190: =VLOOKUP(A190,#REF!,5,0) -> #REF! | F190: =VLOOKUP(A190,#REF!,6,0) -> #REF!
B191: C | D191: =CONCATENATE(A191,B191) -> C | E191: =VLOOKUP(A191,#REF!,5,0) -> #REF! | F191: =VLOOKUP(A191,#REF!,6,0) -> #REF!
B192: C | D192: =CONCATENATE(A192,B192) -> C | E192: =VLOOKUP(A192,#REF!,5,0) -> #REF! | F192: =VLOOKUP(A192,#REF!,6,0) -> #REF!
B193: C | D193: =CONCATENATE(A193,B193) -> C | E193: =VLOOKUP(A193,#REF!,5,0) -> #REF! | F193: =VLOOKUP(A193,#REF!,6,0) -> #REF!
B194: C | D194: =CONCATENATE(A194,B194) -> C | E194: =VLOOKUP(A194,#REF!,5,0) -> #REF! | F194: =VLOOKUP(A194,#REF!,6,0) -> #REF!
A195: 1703 | B195: C | D195: =CONCATENATE(A195,B195) -> 1703C | E195: =VLOOKUP(A195,#REF!,5,0) -> #REF! | F195: =VLOOKUP(A195,#REF!,6,0) -> #REF!
B196: C | D196: =CONCATENATE(A196,B196) -> C | E196: =VLOOKUP(A196,#REF!,5,0) -> #REF! | F196: =VLOOKUP(A196,#REF!,6,0) -> #REF!
...

Sheet ABC
A1: REF | B1: Descrição | C1: % | D1: Acumulado | E1: ABC | F1: Valor | L1: Codigo | M1: Descrição | N1: % | O1: Acumulado | P1: ABC
A2: 1010C | B2: VISEIRA TAURUS - SAN MARINO 0.8 MM - CRISTAL | C2: 0.29613198 | D2: 0.29613198 | E2: A | F2: 2.23 | L2: 1232 | M2: BOTÕES COMPAT. C/ TORK - NEW ATOMIC / NEW LIBERTY 3 | TAURUS - JOY 23 - PAR | N2: 0.17765558 | O2: 0.17765558 | P2: A
A3: 1010F | B3: VISEIRA SAN MARINO FUMÊ 1010F | C3: 0.085302607 | D3: 0.38143459 | E3: A | F3: 3.23 | L3: 1097 | M3: BOTÃO SAN MARINO (UND) 1097 | N3: 0.17412321 | O3: 0.35177879 | P3: A
A4: 1744F | B4: VIS 2.2 INJ COMP. C/ TORK - NEW LIBERTY 3 | TAURUS - JOY 23 - FUME | C4: 0.045553983 | D4: 0.42698857 | E4: A | F4: 13.398 | L4: 1231 | M4: BOTÕES FIX DE VIS PRO TORK (NEW LIBERTY 4) / EVOLUTION 788 - PAR | N4: 0.086838507 | O4: 0.43861729 | P4: A
A5: 1744C | B5: VIS 2.2 INJ COMP. C/ TORK - NEW LIBERTY 3 | TAURUS - JOY 23 - CRISTAL | C5: 0.045289506 | D5: 0.47227808 | E5: A | F5: 11.484 | L5: 1096 | M5: KIT REPARO SAN MARINO 1096 | N5: 0.070792036 | O5: 0.50940933 | P5: B
A6: 1232 | B6: BOTÕES COMPAT. C/ TORK - NEW ATOMIC / NEW LIBERTY 3 | TAURUS - JOY 23 - PAR | C6: 0.037658205 | D6: 0.50993628 | E6: B | F6: 4.176 | L6: 1099P | M6: SUPORTE P/ VISEIRA CAP. SAN MARINO PRETO 1099P | N6: 0.062074721 | O6: 0.57148405 | P6: B
A7: 1097 | B7: BOTÃO SAN MARINO (UND) 1097 | C7: 0.036909437 | D7: 0.54684572 | E7: B | F7: 1.131 | L7: 1097SP | M7: BOTÃO SAN MARINO SPP 1097SP | N7: 0.045788628 | O7: 0.61727268 | P7: B
A8: 1728C | B8: VIS 2.2 INJ COMP. C/ PRO TORK 788 CRISTAL 1728C | C8: 0.032525423 | D8: 0.57937114 | E8: B | F8: 11.484 | L8: 1121 | M8: KIT REPARO SAN MARINO - COMPLETO PRETO 1121 | N8: 0.035360901 | O8: 0.65263358 | P8: B
A9: 1644C | B9: VIS 2.2 INJ COMP. C/ TORK - LIBERTY 4 / NEW LIBERTY 4 - CRISTAL 1644C | C9: 0.03211382 | D9: 0.61148496 | E9: B | F9: 11.484 | L9: 1107 | M9: ENGATE RAPIDO MICROMETRICO PARA CAP. (UND) 1107 | N9: 0.030717175 | O9: 0.68335075 | P9: B
A10: 1676C | B10: VISEIRA GOW - INTERLAGOS AUTOMÁTICO | TORK - SM - CRISTAL 1676C | C10: 0.03108919 | D10: 0.64257415 | E10: B | F10: 3.045 | L10: 1234 | M10: KIT COMPLETO FIXADOR DE VISEIRA LS2 (FF358 / FF396) / HELT (STRADA) - PAR | N10: 0.029816523 | O10: 0.71316728 | P10: B
A11: 1231 | B11: BOTÕES FIX DE VIS PRO TORK (NEW LIBERTY 4) / EVOLUTION 788 - PAR | C11: 0.018407428 | D11: 0.66098158 | E11: B | F11: 4.176 | L11: 1191 | M11: KIT FIXAÇÃO HELT - RACE / MT - THUNDER/BLADE (PAR) 1191 | N11: 0.028031746 | O11: 0.74119902 | P11: B
A12: 1096 | B12: KIT REPARO SAN MARINO 1096 | C12: 0.015006008 | D12: 0.67598759 | E12: B | F12: 3.915 | L12: 1181 | M12: ADESIVOS REFLETIVOS C/ 4 UNIDADES 1181 | N12: 0.024854677 | O12: 0.7660537 | P12: B
A13: 1099P | B13: SUPORTE P/ VISEIRA CAP. SAN MARINO PRETO 1099P | C13: 0.013158171 | D13: 0.68914576 | E13: B | F13: 10.44 | L13: 1115 | M13: BORR. SUP. P/ CAP. - PERFIL VIS. (METRO) (OLHOS) 1115 | N13: 0.02283854 | O13: 0.78889224 | P13: B
A14: 1020C | B14: VISEIRA SAN MARINO TAMANHO 62 CRISTAL 1020C | C14: 0.013124017 | D14: 0.70226977 | E14: B | F14: 3.219 | L14: 1233 | M14: BOTÕES FIXADORES DE VISEIRA LS2 (FF358 / FF396) / HELT (STRADA) - PAR | N14: 0.022499762 | O14: 0.811392 | P14: C
A15: 1097SP | B15: BOTÃO SAN MARINO SPP 1097SP | C15: 0.0097059576 | D15: 0.71197573 | E15: B | F15: 0.87 | L15: 1172 | M15: BOTÕES - SHARK- S650 / MIXS - FOKKER | MX5- (PAR) 1172 | N15: 0.015835767 | O15: 0.82722777 | P15: C
A16: 1708C | B16: VIS 2.2 INJ COMP. C/ EBF - E0X CRISTAL 1708C | C16: 0.0096376489 | D16: 0.72161338 | E16: B | F16: 13.746 | L16: 1237 | M16: KIT FIXAÇÃO COMPAT. C/ EBF - E0X / NEW SPARK | N16: 0.014257562 | O16: 0.84148533 | P16: C
A17: 1728F | B17: VIS 2.2 INJ COMP. C/ PRO TORK 788 FUME 1728F | C17: 0.0082101734 | D17: 0.72982355 | E17: B | F17: 13.746 | L17: 1090P | M17: PALA CAP WIND/EBF CITY/ROOCKIE KIDS A PRETA 1090P | N17: 0.013505641 | O17: 0.85499097 | P17: C
A18: 1676F | B18: VISEIRA GOW - INTERLAGOS AUTOMÁTICO | TORK - SM - FUMÊ 1676F | C18: 0.0076864738 | D18: 0.73751003 | E18: B | F18: 3.48 | L18: 1238 | M18: KIT FIXAÇÃO COMPAT. C/ LS2 - FF320 - STREAM / FF353 - RAPID | N18: 0.010902841 | O18: 0.86589381 | P18: C
A19: 1121 | B19: KIT REPARO SAN MARINO - COMPLETO PRETO 1121 | C19: 0.0074955599 | D19: 0.74500559 | E19: B | F19: 5.481 | L19: 1249 | M19: NARIGUEIRA BIG UNIVERSAL | N19: 0.0096138353 | O19: 0.87550765 | P19: C
A20: 1736F | B20: VIS 2.2 INJ COMP. C/ LS2 (FF358 / FF396) / HELT (STRADA) - FUMÊ - 1736F L | C20: 0.0067476679 | D20: 0.75175326 | E20: B | F20: 24.882 | L20: 1168 | M20: CINTA JUGULAR C/ ENGATE MICROMETRICO 1168 | N20: 0.0088164695 | O20: 0.88432412 | P20: C
A21: 1743C | B21: VIS 2.2 INJ COMP. C/ FÓRMULA 1 R CRISTAL | C21: 0.0066600927 | D21: 0.75841335 | E21: B | F21: 11.484 | L21: 1242 | M21: NARIGUEIRA UNIVERSAL | N21: 0.007915818 | O21: 0.89223994 | P21: C
A22: 1639C | B22: VIS 2.2 INJ COMP. C/ EBF FIT 08 / EBF ROX / EBF 7 1639C | C22: 0.0065155936 | D22: 0.76492894 | E22: B | F22: 11.484 | L22: 1241 | M22: NARIGUEIRA COMP. C/ LS2 - FF358 | N22: 0.0078414523 | O22: 0.90008139 | P22: C
A23: 1107 | B23: ENGATE RAPIDO MICROMETRICO PARA CAP. (UND) 1107 | C23: 0.0065112149 | D23: 0.77144016 | E23: B | F23: 7.395 | L23: 1178 | M23: KIT FIXAÇÃO VAZ - V10/V100 (NOVO C/ BOTÃO) (PAR) 1178 | N23: 0.0077051151 | O23: 0.9077865 | P23: C
A24: 1234 | B24: KIT COMPLETO FIXADOR DE VISEIRA LS2 (FF358 / FF396) / HELT (STRADA) - PAR | C24: 0.006320301 | D24: 0.77776046 | E24: B | F24: 14.355 | L24: 1248 | M24: BOTÕES COMP C/ AGV - BLADE (PAR) | N24: 0.0072961036 | O24: 0.91508261 | P24: C
A25: 1590C | B25: VISEIRA PRO TORK LIBERTY 4 CRISTAL 1590C | C25: 0.006203826 | D25: 0.78396428 | E25: B | F25: 3.48 | L25: 1250 | M25: NARIGUEIRA BIG COMP. COM LS2 FF358 | N25: 0.0068003322 | O25: 0.92188294 | P25: C
A26: 1191 | B26: KIT FIXAÇÃO HELT - RACE / MT - THUNDER/BLADE (PAR) 1191 | C26: 0.0059419762 | D26: 0.78990626 | E26: B | F26: 6.351 | L26: 1177 | M26: KIT FIXAÇÃO LS2 FF350 (PAR) 1177 | N26: 0.0067300979 | O26: 0.92861304 | P26: C
A27: 1714C | B27: VIS 2.2 INJ COMP. C/ ZARREF (NOVO) V2 / V3 - CRISTAL 1714C | C27: 0.0059288399 | D27: 0.7958351 | E27: B | F27: 11.484 | L27: 1225P | M27: SUPORTE P/ VISEIRA CAP. GOW INTERLAGOS AUTOMÁTICO | N27: 0.0065317893 | O27: 0.93514483 | P27: C
A28: 1744Ca | B28: VIS 2.2 INJ COMP. C/ TORK - NEW LIBERTY 3 | TAURUS - JOY 23 - CAMALEAO | C28: 0.005628457 | D28: 0.80146356 | E28: C | F28: 35.235 | L28: 1235 | M28: KIT FIXAÇÃO - NORISK - FF 391 / FF 389 | N28: 0.0065276579 | O28: 0.94167249 | P28: C
A29: 1181 | B29: ADESIVOS REFLETIVOS C/ 4 UNIDADES 1181 | C29: 0.005268523 | D29: 0.80673208 | E29: C | F29: 1.653 | L29: 1193 | M29: PLACA LATERAL PRO TORK LIBERTY 4 (2007) 1193 | N29: 0.0053419377 | O29: 0.94701442 | P29: C
A30: 1115 | B30: BORR. SUP. P/ CAP. - PERFIL VIS. (METRO) (OLHOS) 1115 | C30: 0.0048411561 | D30: 0.81157324 | E30: C | F30: 2.436 | L30: 1236 | M30: KIT FIXAÇÃO - AGV - K3 / K4 | N30: 0.0049329262 | O30: 0.95194735 | P30: C
A31: 1233 | B31: BOTÕES FIXADORES DE VISEIRA LS2 (FF358 / FF396) / HELT (STRADA) - PAR | C31: 0.0047693445 | D31: 0.81634258 | E31: C | F31: 9.57 | L31: 1186 | M31: SUPORTE P/ CAPACETES ( CAIXA C/ 5 UNID.) 1186 | N31: 0.0047511434 | O31: 0.95669849 | P31: C
A32: 1557C | B32: VIS PRO TORK LIBERTY THREE CRISTAL 1557C | C32: 0.0043840137 | D32: 0.82072659 | E32: C | F32: 3.915 | L32: 1104 | M32: PARAF LAT THUNDER OPEN / MEGATRON AUTOMÁTICO / 1104 | N32: 0.0046643834 | O32: 0.96136288 | P32: C
A33: 1703C | B33: VIS 2.2 INJ COMP. C/ HELT - RACE | MT - THUNDER / BLADE - CRISTAL | C33: 0.0041904725 | D33: 0.82491707 | E33: C | F33: 22.968 | L33: 1210 | M33: PLACA LAT. EBF FIT 08 / EBF ROX / EBF 7 2.0 PRETA 1210 | N33: 0.0044619433 | O33: 0.96582482 | P33: C
A34: 1230 | B34: KIT FIXAÇÃO COMPATÍVEL COM TAURUS - FÓRMULA 1R | C34: 0.0041037731 | D34: 0.82902084 | E34: C | F34: 5.22 | L34: 1252P | M34: SUPORTE P/ VISEIRA CAP. PROTORK - SPORT MOTO ( SM ) - AUTOMÁTICO - 1252P | N34: 0.0041768747 | O34: 0.97000169 | P34: C
A35: 1736CA | B35: VIS 2.2 INJ COMP. C/ LS2 (FF358 / FF396) / HELT (STRADA) - CAMALEÃO | C35: 0.0038314143 | D35: 0.83285225 | E35: C | F35: 35.235 | L35: 1206 | M35: LIMPADOR VISEIRAS E LENTES (SPRAY) 1206 | N35: 0.0032018575 | O35: 0.97320355 | P35: C
A36: 1020F | B36: VISEIRA SAN MARINO TAMANHO 62 FUMÊ 1020F | C36: 0.0038191537 | D36: 0.83667141 | E36: C | F36: 4.698 | L36: 1137 | M36: MOLAS PARA CAPACETE SAN MARINO (PAR) 1137 | N36: 0.0031935946 | O36: 0.97639715 | P36: C
A37: 1728CA | B37: VIS 2.2 INJ COMP. C/ PRO TORK 788 CAMALEÃO 1728CA | C37: 0.0037131878 | D37: 0.8403846 | E37: C | F37: 31.581 | L37: 1090B | M37: PALA CAP WIND/EBF CITY/ROOCKIE KIDS A BRANCA 1090B | N37: 0.0029126575 | O37: 0.9793098 | P37: C
A38: 1759C | B38: VIS 2.2 INJ COMP. C/ SAN MARINO CRISTAL | C38: 0.0035862038 | D38: 0.8439708 | E38: C | F38: 6.351 | L38: 1254 | M38: MECANISMO + BOTÕES COMP C/ AGV - BLADE (PAR) | N38: 0.0026317203 | O38: 0.98194152 | P38: C
A39: 1172 | B39: BOTÕES - SHARK- S650 / MIXS - FOKKER | MX5- (PAR) 1172 | C39: 0.0033567568 | D39: 0.84732756 | E39: C | F39: 14.355 | L39: 1239 | M39: KIT FIXAÇÃO (CHASSI) - FOKKER | MX5 - (PAR) 1239 | N39: 0.0024086231 | O39: 0.98435015 | P39: C
A40: 1644F | B40: VIS 2.2 INJ COMP. C/ TORK - LIBERTY 4 / NEW LIBERTY 4 - FUMÊ | C40: 0.0032271455 | D40: 0.8505547 | E40: C | F40: 13.746 | L40: 1224 | M40: KIT FIX - GOW - INTERLAGOS AUT - MOLAS, TRAVAS INT, PAR, ARRUELAS E TAMPAS | N40: 0.0022929431 | O40: 0.98664309 | P40: C
A41: 1708F | B41: VIS 2.2 INJ COMP. C/ EBF - E0X FUMÊ 1708F | C41: 0.0031351916 | D41: 0.85368989 | E41: C | F41: 15.834 | L41: 1253 | M41: KIT FIX - GOW - INTERLAGOS AUT (ANTIGOS) | PRO TORK - SM - (PARA COLAR) - MOLAS, TRAVAS INT, PAR, ARRUELAS E TAMPAS | N41: 0.002243366 | O41: 0.98888646 | P41: C
A42: 1237 | B42: KIT FIXAÇÃO COMPAT. C/ EBF - E0X / NEW SPARK | C42: 0.0030222196 | D42: 0.85671211 | E42: C | F42: 12.441 | L42: 1240 | M42: PLACA LATERAL COMP. C/ PROTORK EVOLUTION 788 3G/4G/5G/6G 1240 | N42: 0.0021276859 | O42: 0.99101414 | P42: C
A43: 1723C | B43: VIS 2.2 INJ COMP. C/ VAZ V10/V100 (NOVO C/ BOTÃO) 1723C | C43: 0.0029337686 | D43: 0.85964588 | E43: C | F43: 11.484 | L43: 1090VM | M43: PALA CAP WIND/EBF CITY/ROOCKIE KIDS A VERMELHA 1090VM | N43: 0.0019748231 | O43: 0.99298896 | P43: C
A44: 1090P | B44: PALA CAP WIND/EBF CITY/ROOCKIE KIDS A PRETA 1090P | C44: 0.0028628327 | D44: 0.86250871 | E44: C | F44: 5.22 | L44: 1150 | M44: KIT FIXAÇÃO VAZ V10 / V100 - ANTIGO (PAR) 1150 | N44: 0.0017599888 | O44: 0.99474895 | P44: C
A45: 1736C | B45: VIS 2.2 INJ COMP. C/ LS2 (FF358 / FF396) / HELT (STRADA) - CRISTAL - 1736C | C45: 0.0027586183 | D45: 0.86526733 | E45: C | F45: 22.968 | L45: 1116 | M45: BORR. INFERIOR P/ CAP. - PERFIL T (EM VOLTA DO PES 1116 | N45: 0.0017186745 | O45: 0.99646763 | P45: C
A46: 1735C | B46: VIS 2.2 INJ COMP. C/ NORISK- FF391 / TEXX - BRAVO / LS2 - FF369 - CRISTAL | C46: 0.0024477264 | D46: 0.86771506 | E46: C | F46: 22.968 | L46: 1251 | M46: KIT FIXAÇÃO COMPAT. C/ TAURUS - JOY 23 - PAR | N46: 0.00099154296 | O46: 0.99745917 | P46: C
A47: 1689C | B47: VIS 2.2 INJ COMP. C/ EBF E8 CRISTAL 1689C | C47: 0.0023426362 | D47: 0.87005769 | E47: C | F47: 13.746 | L47: 1123 | M47: BOTÃO TARGA R (UND) 1123 | N47: 0.00073126294 | O47: 0.99819043 | P47: C
A48: 1238 | B48: KIT FIXAÇÃO COMPAT. C/ LS2 - FF320 - STREAM / FF353 - RAPID | C48: 0.0023111091 | D48: 0.8723688 | E48: C | F48: 15.312 | L48: 1173 | M48: FIXADOR INTERNO PRO TORK 788 EVOLUTION (PAR) 1173 | N48: 0.00059492578 | O48: 0.99878536 | P48: C
A49: 1719C | B49: VIS 2.2 INJ COMP. C/ MIXS MX5 / MX FOKKER / NOS CR 1719C | C49: 0.0022769548 | D49: 0.87464576 | E49: C | F49: 13.746 | L49: 1226 | M49: KIT FIX MIXS MX (COBRA/POWER FEMME RAPTOR) 1226 | N49: 0.00033464575 | O49: 0.99912001 | P49: C
A50: 1646C | B50: VIS 2.2 INJ COMP. C/ MIXS MX (FECHADO) / MX GLADIA 1646C | C50: 0.0022287884 | D50: 0.87687455 | E50: C | F50: 11.484 | L50: 1185 | M50: PARAFUSO LATERAL ZARREF ALUMÍNIO (UNID) 1185 | N50: 0.00032638289 | O50: 0.99944639 | P50: C
A51: 1664C | B51: VIS 2.2 INJ COMP. C/ LS2 - FF350 | MHR - BLADE - CRISTAL | C51: 0.0021412132 | D51: 0.87901576 | E51: C | F51: 22.968 | L51: 1110 | M51: PLACA LATERAL DO BOTÃO SAN MARINO / TARGA R (UND) 1110 | N51: 0.00021483431 | O51: 0.99966122 | P51: C
A52: 1003C | B52: VISEIRA FORMULA 1 NOVO (RETA) CRISTAL 1003C | C52: 0.0020413775 | D52: 0.88105714 | E52: C | F52: 3.828 | L52: 1148 | M52: PLACA LATERAL HGF T/H COM PINOS (PAR) 1148 | N52: 0.00020244002 | O52: 0.99986366 | P52: C
A53: 1249 | B53: NARIGUEIRA BIG UNIVERSAL | C53: 0.0020378745 | D53: 0.88309501 | E53: C | F53: 18.27 | L53: 1102 | M53: PARAFUSO LATERAL ZARREF PRETO (UND) 1102 | N53: 0.00011568001 | O53: 0.99997934 | P53: C
A54: 1743F | B54: VIS 2.2 INJ COMP. C/ FÓRMULA 1R FUME | C54: 0.0019485478 | D54: 0.88504356 | E54: C | F54: 13.746 | L54: 1257 | M54: KIT FIXAÇÃO COMP. C/ AGV - K3 SV / K1 | N54: 2.0657145e-05 | O54: 1 | P54: C
A55: 1735F | B55: VIS 2.2 INJ COMP. C/ NORISK- FF391 / TEXX - BRAVO / LS2 - FF369 - FUMÊ | C55: 0.0019441691 | D55: 0.88698773 | E55: C | F55: 24.882
A56: 1744IR | B56: VIS 2.2 INJ COMP. C/ TORK - NEW LIBERTY 3 | TAURUS - JOY 23 - AZUL IRIDIUM | C56: 0.0019284055 | D56: 0.88891613 | E56: C | F56: 35.235 | L56: Lentes | N56: % | O56: Acumulado | P56: ABC
A57: 1708CA | B57: VIS 2.2 INJ COMP. C/ EBF - E0X CAMALEÃO 1708CA | C57: 0.0019135178 | D57: 0.89082965 | E57: C | F57: 31.581 | L57: 1169C | M57: LENTE PRO TORK POLI 0.8 CRISTAL 1169C | N57: 0.68582375 | O57: 0.68582375 | P57: A
A58: 1015C | B58: VISEIRA FORMULA 1 (PONT.E PARAF.) CRISTAL 1015C | C58: 0.0018977542 | D58: 0.89272741 | E58: C | F58: 3.828 | L58: 1169F | M58: LENTE PRO TORK POLI 0.8 FUME 1169F | N58: 0.29501916 | O58: 0.98084291 | P58: B
A59: 1168 | B59: CINTA JUGULAR C/ ENGATE MICROMETRICO 1168 | C59: 0.0018688544 | D59: 0.89459626 | E59: C | F59: 13.398 | L59: 1216C | M59: LENTE URBAN / CROSS 1.0 (LINHA 2010) \ CRISTAL 1216C | N59: 0.019157088 | O59: 1 | P59: C
A60: 1728IR | B60: VIS 2.2 INJ COMP. C/ PRO TORK 788 IRIDIUM 1728IR | C60: 0.0018347001 | D60: 0.89643096 | E60: C | F60: 31.581
A61: 1744Cr | B61: VIS 2.2 INJ COMP. C/ TORK - NEW LIBERTY 3 | TAURUS - JOY 23 - CROMADA | C61: 0.0017882852 | D61: 0.89821925 | E61: C | F61: 35.235 | L61: Viseira Injetada 2.2 | N61: % | O61: Acumulado | P61: ABC
A62: 1736CR | B62: VIS 2.2 INJ COMP. C/ LS2 (FF358 / FF396) / HELT (STRADA) - CROMADA | C62: 0.0017427461 | D62: 0.89996199 | E62: C | F62: 35.235 | L62: 1744F | M62: VIS 2.2 INJ COMP. C/ TORK - NEW LIBERTY 3 | TAURUS - JOY 23 - FUME | N62: 0.16476927 | O62: 0.16476927 | P62: A
A63: 1772F | B63: VIS 2.2 INJ COMP. C/ LS2 - FF320 - STREAM / FF353 - RAPID - FUMÊ | C63: 0.0017208524 | D63: 0.90168284 | E63: C | F63: 24.882 | L63: 1744C | M63: VIS 2.2 INJ COMP. C/ TORK - NEW LIBERTY 3 | TAURUS - JOY 23 - CRISTAL | N63: 0.16381266 | O63: 0.32858193 | P63: A
A64: 1736IR | B64: VIS 2.2 INJ COMP. C/ LS2 (FF358 / FF396) / HELT (STRADA) - IRIDIUM - 1736IR | C64: 0.001690201 | D64: 0.90337305 | E64: C | F64: 35.235 | L64: 1728C | M64: VIS 2.2 INJ COMP. C/ PRO TORK 788 CRISTAL 1728C | N64: 0.11764482 | O64: 0.44622675 | P64: A
A65: 1242 | B65: NARIGUEIRA UNIVERSAL | C65: 0.0016779405 | D65: 0.90505099 | E65: C | F65: 13.398 | L65: 1644C | M65: VIS 2.2 INJ COMP. C/ TORK - LIBERTY 4 / NEW LIBERTY 4 - CRISTAL 1644C | N65: 0.11615605 | O65: 0.5623828 | P65: B
A66: 1241 | B66: NARIGUEIRA COMP. C/ LS2 - FF358 | C66: 0.001662177 | D66: 0.90671316 | E66: C | F66: 13.398 | L66: 1708C | M66: VIS 2.2 INJ COMP. C/ EBF - E0X CRISTAL 1708C | N66: 0.034859485 | O66: 0.59724228 | P66: B
A67: 1178 | B67: KIT FIXAÇÃO VAZ - V10/V100 (NOVO C/ BOTÃO) (PAR) 1178 | C67: 0.0016332772 | D67: 0.90834644 | E67: C | F67: 6.351 | L67: 1728F | M67: VIS 2.2 INJ COMP. C/ PRO TORK 788 FUME 1728F | N67: 0.02969629 | O67: 0.62693857 | P67: B
A68: 1706C | B68: VIS 2.2 INJ COMP. C/ HELT - HIPPO | YOHE - PRATIK - CRISTAL | C68: 0.0015894896 | D68: 0.90993593 | E68: C | F68: 22.968 | L68: 1736F | M68: VIS 2.2 INJ COMP. C/ LS2 (FF358 / FF396) / HELT (STRADA) - FUMÊ - 1736F L | N68: 0.024406391 | O68: 0.65134496 | P68: B
A69: 1248 | B69: BOTÕES COMP C/ AGV - BLADE (PAR) | C69: 0.0015465777 | D69: 0.91148251 | E69: C | F69: 13.398 | L69: 1743C | M69: VIS 2.2 INJ COMP. C/ FÓRMULA 1 R CRISTAL | N69: 0.024089631 | O69: 0.6754346 | P69: B
A70: 1777C | B70: VIS 2.2 INJ COMP. C/ EBF - NEW 7 (C/ FURO) 2019 - CRISTAL | C70: 0.0015106719 | D70: 0.91299318 | E70: C | F70: 11.484 | L70: 1639C | M70: VIS 2.2 INJ COMP. C/ EBF FIT 08 / EBF ROX / EBF 7 1639C | N70: 0.023566976 | O70: 0.69900157 | P70: B
A71: 1250 | B71: NARIGUEIRA BIG COMP. COM LS2 FF358 | C71: 0.0014414875 | D71: 0.91443467 | E71: C | F71: 18.27 | L71: 1714C | M71: VIS 2.2 INJ COMP. C/ ZARREF (NOVO) V2 / V3 - CRISTAL 1714C | N71: 0.021444681 | O71: 0.72044625 | P71: B
A72: 1728CR | B72: VIS 2.2 INJ COMP. C/ PRO TORK 788 CROMADA 1728CR | C72: 0.0014406118 | D72: 0.91587528 | E72: C | F72: 31.581 | L72: 1703C | M72: VIS 2.2 INJ COMP. C/ HELT - RACE | MT - THUNDER / BLADE - CRISTAL | N72: 0.015156986 | O72: 0.73560324 | P72: B
A73: 1177 | B73: KIT FIXAÇÃO LS2 FF350 (PAR) 1177 | C73: 0.0014265997 | D73: 0.91730188 | E73: C | F73: 12.441 | L73: 1230 | M73: KIT FIXAÇÃO COMPATÍVEL COM TAURUS - FÓRMULA 1R | N73: 0.014843394 | O73: 0.75044663 | P73: B
A74: 1225P | B74: SUPORTE P/ VISEIRA CAP. GOW INTERLAGOS AUTOMÁTICO | C74: 0.0013845636 | D74: 0.91868644 | E74: C | F74: 10.44 | L74: 1759C | M74: VIS 2.2 INJ COMP. C/ SAN MARINO CRISTAL | N74: 0.01297134 | O74: 0.76341797 | P74: B
A75: 1235 | B75: KIT FIXAÇÃO - NORISK - FF 391 / FF 389 | C75: 0.0013836879 | D75: 0.92007013 | E75: C | F75: 14.355 | L75: 1644F | M75: VIS 2.2 INJ COMP. C/ TORK - LIBERTY 4 / NEW LIBERTY 4 - FUMÊ | N75: 0.011672622 | O75: 0.77509059 | P75: B
A76: 1717C | B76: VIS 2.2 INJ COMP. C/ NASA - SH 821 | GDR - FF 821 BLACKBLADE - CRISTAL | C76: 0.0013486578 | D76: 0.92141879 | E76: C | F76: 22.968 | L76: 1708F | M76: VIS 2.2 INJ COMP. C/ EBF - E0X FUMÊ 1708F | N76: 0.011340023 | O76: 0.78643062 | P76: B
A77: 1782F | B77: VIS 2.2 INJ COMP. C/ AGV - BLADE - FUMÊ - 1782F | C77: 0.0012829764 | D77: 0.92270176 | E77: C | F77: 29.667 | L77: 1723C | M77: VIS 2.2 INJ COMP. C/ VAZ V10/V100 (NOVO C/ BOTÃO) 1723C | N77: 0.010611474 | O77: 0.79704209 | P77: B
A78: 1714F | B78: VIS 2.2 INJ COMP. C/ ZARREF (NOVO) V2 / V3 - FUME 1714F | C78: 0.0012742189 | D78: 0.92397598 | E78: C | F78: 13.746 | L78: 1736C | M78: VIS 2.2 INJ COMP. C/ LS2 (FF358 / FF396) / HELT (STRADA) - CRISTAL - 1736C | N78: 0.0099779535 | O78: 0.80702004 | P78: C
A79: 1026C | B79: VISEIRA EBF 7 CRISTAL 1026C | C79: 0.0012715917 | D79: 0.92524758 | E79: C | F79: 3.828 | L79: 1735C | M79: VIS 2.2 INJ COMP. C/ NORISK- FF391 / TEXX - BRAVO / LS2 - FF369 - CRISTAL | N79: 0.008853454 | O79: 0.8158735 | P79: C
A80: 1772CA | B80: VIS 2.2 INJ COMP. C/ LS2 - FF320 - STREAM / FF353 - RAPID - CAMALEAO | C80: 0.0012085375 | D80: 0.92645611 | E80: C | F80: 35.235 | L80: 1689C | M80: VIS 2.2 INJ COMP. C/ EBF E8 CRISTAL 1689C | N80: 0.0084733414 | O80: 0.82434684 | P80: C
A81: 1737C | B81: VIS 2.2 INJ COMP C/ EBF THUNDER OPEN 2011 CRISTAL 1737C | C81: 0.0012085375 | D81: 0.92766465 | E81: C | F81: 13.746 | L81: 1719C | M81: VIS 2.2 INJ COMP. C/ MIXS MX5 / MX FOKKER / NOS CR 1719C | N81: 0.0082357711 | O81: 0.83258261 | P81: C
A82: 1193 | B82: PLACA LATERAL PRO TORK LIBERTY 4 (2007) 1193 | C82: 0.0011323471 | D82: 0.928797 | E82: C | F82: 6.264 | L82: 1646C | M82: VIS 2.2 INJ COMP. C/ MIXS MX (FECHADO) / MX GLADIA 1646C | N82: 0.0080615529 | O82: 0.84064416 | P82: C
A83: 1735CA | B83: VIS 2.2 INJ COMP. C/ NORISK- FF391 / TEXX - BRAVO / LS2 - FF369 - CAMALEÃO | C83: 0.0011122048 | D83: 0.9299092 | E83: C | F83: 35.235 | L83: 1664C | M83: VIS 2.2 INJ COMP. C/ LS2 - FF350 | MHR - BLADE - CRISTAL | N83: 0.0077447925 | O83: 0.84838896 | P83: C
A84: 1759F | B84: VIS 2.2 INJ COMP. C/ SAN MARINO FUMÊ | C84: 0.0011078261 | D84: 0.93101703 | E84: C | F84: 7.395 | L84: 1743F | M84: VIS 2.2 INJ COMP. C/ FÓRMULA 1R FUME | N84: 0.0070479195 | O84: 0.85543688 | P84: C
A85: 1236 | B85: KIT FIXAÇÃO - AGV - K3 / K4 | C85: 0.0010456477 | D85: 0.93206268 | E85: C | F85: 16.53 | L85: 1735F | M85: VIS 2.2 INJ COMP. C/ NORISK- FF391 / TEXX - BRAVO / LS2 - FF369 - FUMÊ | N85: 0.0070320815 | O85: 0.86246896 | P85: C
A86: 1625CF | B86: VISEIRA SAN MARINO 2 EM 1 CRISTAL/FUME 1625CF | C86: 0.0010255054 | D86: 0.93308818 | E86: C | F86: 5.742 | L86: 1772F | M86: VIS 2.2 INJ COMP. C/ LS2 - FF320 - STREAM / FF353 - RAPID - FUMÊ | N86: 0.0062243424 | O86: 0.8686933 | P86: C
A87: 1778F | B87: VIS 2.2 INJ COMP. C/ HELT - POLAR - FUMÊ 1778F | C87: 0.0010114934 | D87: 0.93409967 | E87: C | F87: 24.882 | L87: 1706C | M87: VIS 2.2 INJ COMP. C/ HELT - HIPPO | YOHE - PRATIK - CRISTAL | N87: 0.0057492018 | O87: 0.8744425 | P87: C
A88: 1782C | B88: VIS 2.2 INJ COMP. C/ AGV - BLADE - CRISTAL - 1782C | C88: 0.0010071146 | D88: 0.93510679 | E88: C | F88: 27.753 | L88: 1777C | M88: VIS 2.2 INJ COMP. C/ EBF - NEW 7 (C/ FURO) 2019 - CRISTAL | N88: 0.0054641174 | O88: 0.87990662 | P88: C
A89: 1186 | B89: SUPORTE P/ CAPACETES ( CAIXA C/ 5 UNID.) 1186 | C89: 0.0010071146 | D89: 0.9361139 | E89: C | F89: 52.2 | L89: 1717C | M89: VIS 2.2 INJ COMP. C/ NASA - SH 821 | GDR - FF 821 BLACKBLADE - CRISTAL | N89: 0.0048781106 | O89: 0.88478473 | P89: C
A90: 1778CA | B90: VIS 2.2 INJ COMP. C/ HELT - POLAR - CAMALEÃO 1778CA | C90: 0.00099397833 | D90: 0.93710788 | E90: C | F90: 35.235 | L90: 1782F | M90: VIS 2.2 INJ COMP. C/ AGV - BLADE - FUMÊ - 1782F | N90: 0.0046405403 | O90: 0.88942527 | P90: C
A91: 1104 | B91: PARAF LAT THUNDER OPEN / MEGATRON AUTOMÁTICO / 1104 | C91: 0.00098872382 | D91: 0.93809661 | E91: C | F91: 2.175 | L91: 1714F | M91: VIS 2.2 INJ COMP. C/ ZARREF (NOVO) V2 / V3 - FUME 1714F | N91: 0.0046088642 | O91: 0.89403413 | P91: C
A92: 1557F | B92: VIS PRO TORK LIBERTY THREE FUMÊ 1557F | C92: 0.00098346931 | D92: 0.93908008 | E92: C | F92: 4.35 | L92: 1737C | M92: VIS 2.2 INJ COMP C/ EBF THUNDER OPEN 2011 CRISTAL 1737C | N92: 0.0043712939 | O92: 0.89840543 | P92: C
A93: 1783F | B93: VIS 2.2 INJ COMP. C/ AGV - K3 SV / K1 - FUMÊ - 1783F | C93: 0.00095894826 | D93: 0.94003902 | E93: C | F93: 29.667 | L93: 1759F | M93: VIS 2.2 INJ COMP. C/ SAN MARINO FUMÊ | N93: 0.0040070194 | O93: 0.90241245 | P93: C
A94: 1210 | B94: PLACA LAT. EBF FIT 08 / EBF ROX / EBF 7 2.0 PRETA 1210 | C94: 0.00094581198 | D94: 0.94098484 | E94: C | F94: 6.351 | L94: 1778F | M94: VIS 2.2 INJ COMP. C/ HELT - POLAR - FUMÊ 1778F | N94: 0.0036585829 | O94: 0.90607103 | P94: C
A95: 1704C | B95: VIS 2.2 INJ COMP. C/ AGV - K3/K4 ( STREET 8 ) CRI 1704C | C95: 0.00094581198 | D95: 0.94193065 | E95: C | F95: 22.968 | L95: 1782C | M95: VIS 2.2 INJ COMP. C/ AGV - BLADE - CRISTAL - 1782C | N95: 0.0036427449 | O95: 0.90971378 | P95: C
A96: 1703F | B96: VIS 2.2 INJ COMP. C/ HELT - RACE | MT - THUNDER / BLADE - FUMÊ | C96: 0.00091516067 | D96: 0.94284581 | E96: C | F96: 24.882 | L96: 1783F | M96: VIS 2.2 INJ COMP. C/ AGV - K3 SV / K1 - FUMÊ - 1783F | N96: 0.0034685267 | O96: 0.9131823 | P96: C
A97: 1759CA | B97: VIS 2.2 INJ TRAT COMP. C/ SAN MARINO CAMALEAO | C97: 0.00089326687 | D97: 0.94373907 | E97: C | F97: 23.49 | L97: 1704C | M97: VIS 2.2 INJ COMP. C/ AGV - K3/K4 ( STREET 8 ) CRI 1704C | N97: 0.0034210126 | O97: 0.91660331 | P97: C
A98: 1252P | B98: SUPORTE P/ VISEIRA CAP. PROTORK - SPORT MOTO ( SM ) - AUTOMÁTICO - 1252P | C98: 0.0008853851 | D98: 0.94462446 | E98: C | F98: 10.44 | L98: 1703F | M98: VIS 2.2 INJ COMP. C/ HELT - RACE | MT - THUNDER / BLADE - FUMÊ | N98: 0.0033101465 | O98: 0.91991346 | P98: C
A99: 1782CA | B99: VIS 2.2 INJ COMP. C/ AGV - BLADE - CAMALEÃO - 1782CA | C99: 0.00088013059 | D99: 0.94550459 | E99: C | F99: 42.108 | L99: 1772C | M99: VIS 2.2 INJ COMP. C/ LS2 - FF320 - STREAM / FF353 - RAPID - CRISTAL | N99: 0.0031200902 | O99: 0.92303355 | P99: C
A100: 1772C | B100: VIS 2.2 INJ COMP. C/ LS2 - FF320 - STREAM / FF353 - RAPID - CRISTAL | C100: 0.00086261556 | D100: 0.94636721 | E100: C | F100: 22.968 | L100: 1783C | M100: VIS 2.2 INJ COMP. C/ AGV - K3 SV / K1 - CRISTAL - 1783C | N100: 0.0030567381 | O100: 0.92609029 | P100: C
...

Sheet TABELA TODOS ITENS  PARA TROCA
B1: TABELA DE RESGATE - CLUBE DA VISEIRA - SETEMBRO 2026 | F1: CLUBE DA VISEIRA
B2: QTD | C2: REF | D2: Descrição | E2: Grupo | F2: Ponto p/Troca | G2: Total
C3: 1728F | D3: VIS 2.2 INJ COMP. C/ PRO TORK 788 FUME 1728F ( PROMOÇÃO) | E3: Viseira Injetada 2.2 | F3: 33 | G3: =B3*F3 -> 0
C4: 1728CA | D4: VIS 2.2 INJ COMP. C/ PRO TORK 788 CAMALEÃO 1728CA ( PROMOÇÃO) | E4: Viseira Metalizada 2.2 | F4: 70 | G4: =B4*F4 -> 0
C5: 1728CR | D5: VIS 2.2 INJ COMP. C/ PRO TORK 788 CROMADA 1728CR ( PROMOÇÃO) | E5: Viseira Metalizada 2.2 | F5: 50 | G5: =B5*F5 -> 0
C6: 1728DO | D6: VIS 2.2 INJ COMP. C/ PRO TORK 788 DOURADA 1728DO ( PROMOÇÃO) | E6: Viseira Metalizada 2.2 | F6: 40 | G6: =B6*F6 -> 0
C7: 1728IR | D7: VIS 2.2 INJ COMP. C/ PRO TORK 788 IRIDIUM 1728IR ( PROMOÇÃO) | E7: Viseira Metalizada 2.2 | F7: 50 | G7: =B7*F7 -> 0
C8: 1801C | D8: VIS 2.2 INJ COMP. C/ KYT - TT COURSE - CRISTAL - 1801C (LANÇAMENTO) | E8: Viseira Injetada 2.2 | F8: 57 | G8: =B8*F8 -> 0
C9: 1801CA | D9: VIS 2.2 INJ COMP. C/ KYT - TT COURSE - CAMALEÃO- 1801CA (LANÇAMENTO) | E9: Viseira Metalizada 2.2 | F9: 100 | G9: =B9*F9 -> 0
C10: 1801CAL | D10: VIS 2.2 INJ COMP. C/ KYT - TT COURSE - CAMALEÃO LIGHT - 1801CAL (LANÇAMENTO) | E10: Viseira Metalizada 2.2 | F10: 100 | G10: =B10*F10 -> 0
C11: 1801CR | D11: VIS 2.2 INJ COMP. C/ KYT - TT COURSE - CROMADA - 1801CR (LANÇAMENTO) | E11: Viseira Metalizada 2.2 | F11: 100 | G11: =B11*F11 -> 0
C12: 1801CRL | D12: VIS 2.2 INJ COMP. C/ KYT - TT COURSE - CROMADA LIGHT - 1801CRL (LANÇAMENTO) | E12: Viseira Metalizada 2.2 | F12: 100 | G12: =B12*F12 -> 0
C13: 1801DO | D13: VIS 2.2 INJ COMP. C/ KYT - TT COURSE - DOURADA - 1801DO (LANÇAMENTO) | E13: Viseira Metalizada 2.2 | F13: 100 | G13: =B13*F13 -> 0
C14: 1801DOL | D14: VIS 2.2 INJ COMP. C/ KYT - TT COURSE - DOURADA LIGHT - 1801DOL (LANÇAMENTO) | E14: Viseira Metalizada 2.2 | F14: 100 | G14: =B14*F14 -> 0
... C19: 1801PIL | D19: VIS 2.2 INJ COMP. C/ KYT - TT COURSE - PINK LIGHT - 1801PIL (LANÇAMENTO) | E19: Viseira Metalizada 2.2 | F19: 100 | G19: =B19*F19 -> 0
C20: 1096 | D20: KIT REPARO SAN MARINO 1096 | E20: Acessórios Vendas | F20: 13 | G20: =B20*F20 -> 0
C21: 1097 | D21: BOTÃO SAN MARINO (UND) 1097 | E21: Acessórios Vendas | F21: 4 | G21: =B21*F21 -> 0
C22: 1102 | D22: PARAFUSO LATERAL ZARREF PRETO (UND) 1102 | E22: Acessórios Vendas | F22: 5 | G22: =B22*F22 -> 0
C23: 1104 | D23: PARAF LAT THUNDER OPEN / MEGATRON AUTOMÁTICO / 1104 | E23: Acessórios Vendas | F23: 7 | G23: =B23*F23 -> 0
C24: 1107 | D24: ENGATE RAPIDO MICROMETRICO PARA CAP. (UND) 1107 | E24: Acessórios Vendas | F24: 22 | G24: =B24*F24 -> 0
C25: 1110 | D25: PLACA LATERAL DO BOTÃO SAN MARINO / TARGA R (UND) 1110 | E25: Acessórios Vendas | F25: 6 | G25: =B25*F25 -> 0
C26: 1115 | D26: BORR. SUP. P/ CAP. - PERFIL VIS. (METRO) (OLHOS) 1115 | E26: Acessórios Vendas | F26: 10 | G26: =B26*F26 -> 0
C27: 1116 | D27: BORR. INFERIOR P/ CAP. - PERFIL T (EM VOLTA DO PES 1116 | E27: Acessórios Vendas | F27: 13 | G27: =B27*F27 -> 0
C28: 1121 | D28: KIT REPARO SAN MARINO - COMPLETO PRETO 1121 | E28: Acessórios Vendas | F28: 18 | G28: =B28*F28 -> 0
C29: 1137 | D29: MOLAS PARA CAPACETE SAN MARINO (PAR) 1137 | E29: Acessórios Vendas | F29: 5 | G29: =B29*F29 -> 0
C30: 1148 | D30: PLACA LATERAL HGF T/H COM PINOS (PAR) 1148 | E30: Acessórios Vendas | F30: 13 | G30: =B30*F30 -> 0
C31: 1150 | D31: KIT FIXAÇÃO VAZ V10 / V100 - ANTIGO (PAR) 1150 | E31: Acessórios Vendas | F31: 20 | G31: =B31*F31 -> 0
... C77: 1271 | D77: KIT FIXAÇÃO COMP. C/ NORISK - ORION | ASTONE - KSR-2 - 1271 | E77: Acessórios Vendas | F77: 100 | G77: =B77*F77 -> 0
C78: 1090B | D78: PALA CAP WIND/EBF CITY/ROOCKIE KIDS A BRANCA 1090B | E78: Acessórios Vendas | F78: 17 | G78: =B78*F78 -> 0
C79: 1090P | D79: PALA CAP WIND/EBF CITY/ROOCKIE KIDS A PRETA 1090P | E79: Acessórios Vendas | F79: 17 | G79: =B79*F79 -> 0
C80: 1090VM | D80: PALA CAP WIND/EBF CITY/ROOCKIE KIDS A VERMELHA 1090VM | E80: Acessórios Vendas | F80: 17 | G80: =B80*F80 -> 0
C81: 1097SP | D81: BOTÃO SAN MARINO SPP 1097SP | E81: Acessórios Vendas | F81: 27 | G81: =B81*F81 -> 0
C82: 1099P | D82: SUPORTE P/ VISEIRA CAP. SAN MARINO PRETO 1099P | E82: Acessórios Vendas | F82: 27 | G82: =B82*F82 -> 0
C83: 1225P | D83: SUPORTE P/ VISEIRA CAP. GOW INTERLAGOS AUTOMÁTICO | E83: Acessórios Vendas | F83: 33 | G83: =B83*F83 -> 0
C84: 1252P | D84: SUPORTE P/ VISEIRA CAP. PROTORK - SPORT MOTO ( SM ) - AUTOMÁTICO - 1252P | E84: Acessórios Vendas | F84: 33 | G84: =B84*F84 -> 0
C85: 1169C | D85: LENTE PRO TORK POLI 0.8 CRISTAL 1169C | E85: Lentes | F85: 7 | G85: =B85*F85 -> 0
C86: 1169F | D86: LENTE PRO TORK POLI 0.8 FUME 1169F | E86: Lentes | F86: 11 | G86: =B86*F86 -> 0
C87: 1170C | D87: LENTE PRO TORK POLI 1.0 CRISTAL 1170C | E87: Lentes | F87: 11 | G87: =B87*F87 -> 0
C88: 1216C | D88: LENTE URBAN / CROSS 1.0 (LINHA 2010) \ CRISTAL 1216C | E88: Lentes | F88: 7 | G88: =B88*F88 -> 0
C89: 1230 | D89: KIT FIXAÇÃO COMPATÍVEL COM TAURUS - FÓRMULA 1R | E89: Viseira Injetada 2.2 | F89: 17 | G89: =B89*F89 -> 0
C90: 1265 | D90: KIT FIXACAO NORISK - NEO (ABERTO) 1265 | E90: Viseira Injetada 2.2 | F90: 45 | G90: =B90*F90 -> 0
C91: 1639C | D91: VIS 2.2 INJ COMP. C/ EBF FIT 08 / EBF ROX / EBF 7 1639C | E91: Viseira Injetada 2.2 | F91: 41 | G91: =B91*F91 -> 0
C92: 1639F | D92: VIS 2.2 INJ COMP. C/ EBF FIT 08/EBF ROX/EBF 7 FUM 1639F | E92: Viseira Injetada 2.2 | F92: 48 | G92: =B92*F92 -> 0
C93: 1639TC | D93: VIS 2.2 INJ C/ TRAT COMP. C/ EBF - FIT 08 / ROX / 7 2.0 - CRISTAL | E93: Viseira Injetada 2.2 | F93: 57 | G93: =B93*F93 -> 0
C94: 1639TF | D94: VIS 2.2 INJ C/ TRAT COMP. C/ EBF - FIT 08 / ROX / 7 2.0 - FUMÊ | E94: Viseira Injetada 2.2 | F94: 66 | G94: =B94*F94 -> 0
C95: 1643C | D95: VIS 2.2 INJ COMP. C/ ZARREF CRISTAL 1643C | E95: Viseira Injetada 2.2 | F95: 41 | G95: =B95*F95 -> 0
C96: 1643F | D96: VIS 2.2 INJ COMP. C/ ZARREF FUMÊ 1643F | E96: Viseira Injetada 2.2 | F96: 48 | G96: =B96*F96 -> 0
C97: 1643TC | D97: VIS 2.2 INJ C/ TRAT COMP. C/ TAURUS - ZARREF (ANTIGO) - CRISTAL | E97: Viseira Injetada 2.2 | F97: 57 | G97: =B97*F97 -> 0
C98: 1643TF | D98: VIS 2.2 INJ C/ TRAT COMP. C/ TAURUS - ZARREF (ANTIGO) - FUMÊ | E98: Viseira Injetada 2.2 | F98: 66 | G98: =B98*F98 -> 0
C99: 1644C | D99: VIS 2.2 INJ COMP. C/ TORK - LIBERTY 4 / NEW LIBERTY 4 - CRISTAL 1644C | E99: Viseira Injetada 2.2 | F99: 41 | G99: =B99*F99 -> 0
C100: 1644F | D100: VIS 2.2 INJ COMP. C/ TORK - LIBERTY 4 / NEW LIBERTY 4 - FUMÊ | E100: Viseira Injetada 2.2 | F100: 48 | G100: =B100*F100 -> 0
C101: 1644TC | D101: VIS 2.2 INJ C/ TRAT COMP. C/ TORK - LIBERTY 4 / NEW LIBERTY 4 - CRISTAL | E101: Viseira Injetada 2.2 | F101: 57 | G101: =B101*F101 -> 0
C102: 1644TF | D102: VIS 2.2 INJ C/ TRAT COMP. C/ TORK - LIBERTY 4 / NEW LIBERTY 4 - FUMÊ | E102: Viseira Injetada 2.2 | F102: 66 | G102: =B102*F102 -> 0
... C837: 1799PIL | D837: VIS 2.2 INJ COMP. C/ TEXX - HAWK - PINK LIGHT | E837: Viseira Metalizada 2.2 | F837: 100 | G837: =B837*F837 -> 0
C838: 1272 | D838: BOTÕES COMPAT. C/ PROTORK - STEALTH | MIXS - START | E838: Acessórios Vendas | F838: 13 | G838: =B838*F838 -> 0
C839: 1800C | D839: VIS 2.2 INJ + KIT FIXAÇÃO COMP. C/ AGV - BLADE | FW3 - X-OPEN | ASX - CITY AIR - CRISTAL | E839: Viseira Injetada 2.2 | F839: 57 | G839: =B839*F839 -> 0
C840: 1800CA | D840: VIS 2.2 INJ + KIT FIXAÇÃO COMP. C/ AGV - BLADE | FW3 - X-OPEN | ASX - CITY AIR - CAMALEÃO | E840: Viseira Metalizada 2.2 | F840: 100 | G840: =B840*F840 -> 0
C841: 1800CAL | D841: VIS 2.2 INJ + KIT FIXAÇÃO COMP. C/ AGV - BLADE | FW3 - X-OPEN | ASX - CITY AIR - CAMALEÃO LIGHT | E841: Viseira Metalizada 2.2 | F841: 100 | G841: =B841*F841 -> 0
C842: 1800CR | D842: VIS 2.2 INJ + KIT FIXAÇÃO COMP. C/ AGV - BLADE | FW3 - X-OPEN | ASX - CITY AIR - CROMADA | E842: Viseira Metalizada 2.2 | F842: 100 | G842: =B842*F842 -> 0
C843: 1800CRL | D843: VIS 2.2 INJ + KIT FIXAÇÃO COMP. C/ AGV - BLADE | FW3 - X-OPEN | ASX - CITY AIR - CROMADA LIGHT | E843: Viseira Metalizada 2.2 | F843: 100 | G843: =B843*F843 -> 0
C844: 1800DO | D844: VIS 2.2 INJ + KIT FIXAÇÃO COMP. C/ AGV - BLADE | FW3 - X-OPEN | ASX - CITY AIR - DOURADA | E844: Viseira Metalizada 2.2 | F844: 100 | G844: =B844*F844 -> 0
C845: 1800DOL | D845: VIS 2.2 INJ + KIT FIXAÇÃO COMP. C/ AGV - BLADE | FW3 - X-OPEN | ASX - CITY AIR - DOURADA LIGHT | E845: Viseira Metalizada 2.2 | F845: 100 | G845: =B845*F845 -> 0
C846: 1800F | D846: VIS 2.2 INJ + KIT FIXAÇÃO COMP. C/ AGV - BLADE | FW3 - X-OPEN | ASX - CITY AIR - FUMÊ | E846: Viseira Injetada 2.2 | F846: 66 | G846: =B846*F846 -> 0
C847: 1800IR | D847: VIS 2.2 INJ + KIT FIXAÇÃO COMP. C/ AGV - BLADE | FW3 - X-OPEN | ASX - CITY AIR - AZUL IRIDIUM | E847: Viseira Metalizada 2.2 | F847: 100 | G847: =B847*F847 -> 0
C848: 1800IRL | D848: VIS 2.2 INJ + KIT FIXAÇÃO COMP. C/ AGV - BLADE | FW3 - X-OPEN | ASX - CITY AIR - AZUL IRIDIUM LIGHT | E848: Viseira Metalizada 2.2 | F848: 100 | G848: =B848*F848 -> 0
C849: 1800PI | D849: VIS 2.2 INJ + KIT FIXAÇÃO COMP. C/ AGV - BLADE | FW3 - X-OPEN | ASX - CITY AIR - PINK | E849: Viseira Metalizada 2.2 | F849: 100 | G849: =B849*F849 -> 0
C850: 1800PIL | D850: VIS 2.2 INJ + KIT FIXAÇÃO COMP. C/ AGV - BLADE | FW3 - X-OPEN | ASX - CITY AIR - PINK LIGHT | E850: Viseira Metalizada 2.2 | F850: 100 | G850: =B850*F850 -> 0
... C882: 1758CF | D882: VISEIRA 2X1 COMPAT. C/ GOW - INTERLAGOS AUT / TORK - SM - CRISTAL/FUMÊ | E882: Viseira Reta 0.8 | F882: 23 | G882: =B882*F882 -> 0
B883: =SUM(B3:B882) -> 0 | G883: =SUM(G3:G882) -> 0
A885: Cliente: | E885: UF:
A886: Cidade: | E886: Bairro:
A887: Endereço: | E887: CEP:
A888: CNPJ: | E888: I.E.:
A889: Email: | E889: Telefone:
A890: Transp. | E890: Cond. Pg.
A892: Obs.: | C892: PEDIDO DE BONIFICAÇÃO PARA TROCA DE PONTOS DO CLUBE DA VISEIRA

Sheet TABELA PARA TROCA (REF)
A1: TABELA DE RESGATE - CLUBE DA VISEIRA - SETEMBRO 2026
A2: PEDIDO DE TROCA DE PONTOS
A3: Seq | B3: Qtd | C3: REF | D3: Descrição | E3: Valor | F3: Total
A4: 1 | D4: =IFERROR(VLOOKUP(C4,'TABELA TODOS ITENS PARA TROCA'!$C:$E,2,0),0) -> 0 | E4: =IFERROR(VLOOKUP(C4,'TABELA TODOS ITENS PARA TROCA'!$C:$G,4,0),0) -> 0 | F4: =B4*E4 -> 0
A5: 2 | D5: =IFERROR(VLOOKUP(C5,'TABELA TODOS ITENS PARA TROCA'!$C:$E,2,0),0) -> 0 | E5: =IFERROR(VLOOKUP(C5,'TABELA TODOS ITENS PARA TROCA'!$C:$G,4,0),0) -> 0 | F5: =B5*E5 -> 0
A6: =A5+1 -> 3 | D6: =IFERROR(VLOOKUP(C6,'TABELA TODOS ITENS PARA TROCA'!$C:$E,2,0),0) -> 0 | E6: =IFERROR(VLOOKUP(C6,'TABELA TODOS ITENS PARA TROCA'!$C:$G,4,0),0) -> 0 | F6: =B6*E6 -> 0
A7: =A6+1 -> 4 | D7: =IFERROR(VLOOKUP(C7,'TABELA TODOS ITENS PARA TROCA'!$C:$E,2,0),0) -> 0 | E7: =IFERROR(VLOOKUP(C7,'TABELA TODOS ITENS PARA TROCA'!$C:$G,4,0),0) -> 0 | F7: =B7*E7 -> 0
A8: =A7+1 -> 5 | D8: =IFERROR(VLOOKUP(C8,'TABELA TODOS ITENS PARA TROCA'!$C:$E,2,0),0) -> 0 | E8: =IFERROR(VLOOKUP(C8,'TABELA TODOS ITENS PARA TROCA'!$C:$G,4,0),0) -> 0 | F8: =B8*E8 -> 0
A9: =A8+1 -> 6 | D9: =IFERROR(VLOOKUP(C9,'TABELA TODOS ITENS PARA TROCA'!$C:$E,2,0),0) -> 0 | E9: =IFERROR(VLOOKUP(C9,'TABELA TODOS ITENS PARA TROCA'!$C:$G,4,0),0) -> 0 | F9: =B9*E9 -> 0
A10: =A9+1 -> 7 | D10: =IFERROR(VLOOKUP(C10,'TABELA TODOS ITENS PARA TROCA'!$C:$E,2,0),0) -> 0 | E10: =IFERROR(VLOOKUP(C10,'TABELA TODOS ITENS PARA TROCA'!$C:$G,4,0),0) -> 0 | F10: =B10*E10 -> 0
A11: =A10+1 -> 8 | D11: =IFERROR(VLOOKUP(C11,'TABELA TODOS ITENS PARA TROCA'!$C:$E,2,0),0) -> 0 | E11: =IFERROR(VLOOKUP(C11,'TABELA TODOS ITENS PARA TROCA'!$C:$G,4,0),0) -> 0 | F11: =B11*E11 -> 0
A12: =A11+1 -> 9 | D12: =IFERROR(VLOOKUP(C12,'TABELA TODOS ITENS PARA TROCA'!$C:$E,2,0),0) -> 0 | E12: =IFERROR(VLOOKUP(C12,'TABELA TODOS ITENS PARA TROCA'!$C:$G,4,0),0) -> 0 | F12: =B12*E12 -> 0
A13: =A12+1 -> 10 | D13: =IFERROR(VLOOKUP(C13,'TABELA TODOS ITENS PARA TROCA'!$C:$E,2,0),0) -> 0 | E13: =IFERROR(VLOOKUP(C13,'TABELA TODOS ITENS PARA TROCA'!$C:$G,4,0),0) -> 0 | F13: =B13*E13 -> 0
A14: =A13+1 -> 11 | D14: =IFERROR(VLOOKUP(C14,'TABELA TODOS ITENS PARA TROCA'!$C:$E,2,0),0) -> 0 | E14: =IFERROR(VLOOKUP(C14,'TABELA TODOS ITENS PARA TROCA'!$C:$G,4,0),0) -> 0 | F14: =B14*E14 -> 0
A15: =A14+1 -> 12 | D15: =IFERROR(VLOOKUP(C15,'TABELA TODOS ITENS PARA TROCA'!$C:$E,2,0),0) -> 0 | E15: =IFERROR(VLOOKUP(C15,'TABELA TODOS ITENS PARA TROCA'!$C:$G,4,0),0) -> 0 | F15: =B15*E15 -> 0
A16: =A15+1 -> 13 | D16: =IFERROR(VLOOKUP(C16,'TABELA TODOS ITENS PARA TROCA'!$C:$E,2,0),0) -> 0 | E16: =IFERROR(VLOOKUP(C16,'TABELA TODOS ITENS PARA TROCA'!$C:$G,4,0),0) -> 0 | F16: =B16*E16 -> 0
A17: =A16+1 -> 14 | D17: =IFERROR(VLOOKUP(C17,'TABELA TODOS ITENS PARA TROCA'!$C:$E,2,0),0) -> 0 | E17: =IFERROR(VLOOKUP(C17,'TABELA TODOS ITENS PARA TROCA'!$C:$G,4,0),0) -> 0 | F17: =B17*E17 -> 0
A18: =A17+1 -> 15 | D18: =IFERROR(VLOOKUP(C18,'TABELA TODOS ITENS PARA TROCA'!$C:$E,2,0),0) -> 0 | E18: =IFERROR(VLOOKUP(C18,'TABELA TODOS ITENS PARA TROCA'!$C:$G,4,0),0) -> 0 | F18: =B18*E18 -> 0
B19: =SUM(B4:B18) -> 0 | F19: =SUM(F4:F18) -> 0
A21: Cliente: | E21: UF:
A22: Cidade: | E22: Bairro:
A23: Endereço: | E23: CEP:
A24: CNPJ: | E24: I.E.:
A25: Email: | E25: Telefone:
A26: Transp. | E26: Cond. Pg.
A28: Obs.: | C28: PEDIDO DE BONIFICAÇÃO PARA TROCA DE PONTOS DO CLUBE DA VISEIRA
