Workbook

Sheet base itens II (não mexer)
A1: REF | B1: SIG | C1: COR | D1: REF TABELA | E1: QTD | F1: Valor
A2: Viseiras Compatíveis com Capacetes Importados COM Tratamento Resistente a Riscos
A4: 1704 | B4: C | D4: =CONCATENATE(A4,B4) -> 1704C | E4: =VLOOKUP(A4,#REF!,5,0) -> #REF! | F4: =VLOOKUP(A4,#REF!,6,0) -> #REF!
A5: 1783 | B5: C | D5: =CONCATENATE(A5,B5) -> 1783C | E5: =VLOOKUP(A5,#REF!,5,0) -> #REF! | F5: =VLOOKUP(A5,#REF!,6,0) -> #REF!
A6: 1659 | B6: C | D6: =CONCATENATE(A6,B6) -> 1659C | E6: =VLOOKUP(A6,#REF!,5,0) -> #REF! | F6: =VLOOKUP(A6,#REF!,6,0) -> #REF!
A7: 1778 | B7: C | D7: =CONCATENATE(A7,B7) -> 1778C | E7: =VLOOKUP(A7,#REF!,5,0) -> #REF! | F7: =VLOOKUP(A7,#REF!,6,0) -> #REF!
A8: 1770 | B8: C | D8: =CONCATENATE(A8,B8) -> 1770C | E8: =VLOOKUP(A8,#REF!,5,0) -> #REF! | F8: =VLOOKUP(A8,#REF!,6,0) -> #REF!
A9: 1771 | B9: C | D9: =CONCATENATE(A9,B9) -> 1771C | E9: =VLOOKUP(A9,#REF!,5,0) -> #REF! | F9: =VLOOKUP(A9,#REF!,6,0) -> #REF!
A10: 1757 | B10: C | D10: =CONCATENATE(A10,B10) -> 1757C | E10: =VLOOKUP(A10,#REF!,5,0) -> #REF! | F10: =VLOOKUP(A10,#REF!,6,0) -> #REF!
A11: 1742 | B11: C | D11: =CONCATENATE(A11,B11) -> 1742C | E11: =VLOOKUP(A11,#REF!,5,0) -> #REF! | F11: =VLOOKUP(A11,#REF!,6,0) -> #REF!
A12: 1772 | B12: C | D12: =CONCATENATE(A12,B12) -> 1772C | E12: =VLOOKUP(A12,#REF!,5,0) -> #REF! | F12: =VLOOKUP(A12,#REF!,6,0) -> #REF!
A13: 1755 | B13: C | D13: =CONCATENATE(A13,B13) -> 1755C | E13: =VLOOKUP(A13,#REF!,5,0) -> #REF! | F13: =VLOOKUP(A13,#REF!,6,0) -> #REF!
A14: 1785 | B14: C | D14: =CONCATENATE(A14,B14) -> 1785C | E14: =VLOOKUP(A14,#REF!,5,0) -> #REF! | F14: =VLOOKUP(A14,#REF!,6,0) -> #REF!
A15: 1789 | B15: C | D15: =CONCATENATE(A15,B15) -> 1789C | E15: =VLOOKUP(A15,#REF!,5,0) -> #REF! | F15: =VLOOKUP(A15,#REF!,6,0) -> #REF!
... A22: 1794 | B22: C | D22: =CONCATENATE(A22,B22) -> 1794C | E22: =VLOOKUP(A22,#REF!,5,0) -> #REF! | F22: =VLOOKUP(A22,#REF!,6,0) -> #REF!
A32: 1704 | B32: F | D32: =CONCATENATE(A32,B32) -> 1704F | E32: =VLOOKUP(A32,#REF!,8,0) -> #REF! | F32: =VLOOKUP(A32,#REF!,9,0) -> #REF!
A33: 1783 | B33: F | D33: =CONCATENATE(A33,B33) -> 1783F | E33: =VLOOKUP(A33,#REF!,8,0) -> #REF! | F33: =VLOOKUP(A33,#REF!,9,0) -> #REF!
A34: 1659 | B34: F | D34: =CONCATENATE(A34,B34) -> 1659F | E34: =VLOOKUP(A34,#REF!,8,0) -> #REF! | F34: =VLOOKUP(A34,#REF!,9,0) -> #REF!
A35: 1778 | B35: F | D35: =CONCATENATE(A35,B35) -> 1778F | E35: =VLOOKUP(A35,#REF!,8,0) -> #REF! | F35: =VLOOKUP(A35,#REF!,9,0) -> #REF!
A36: 1770 | B36: F | D36: =CONCATENATE(A36,B36) -> 1770F | E36: =VLOOKUP(A36,#REF!,8,0) -> #REF! | F36: =VLOOKUP(A36,#REF!,9,0) -> #REF!
A37: 1771 | B37: F | D37: =CONCATENATE(A37,B37) -> 1771F | E37: =VLOOKUP(A37,#REF!,8,0) -> #REF! | F37: =VLOOKUP(A37,#REF!,9,0) -> #REF!
A38: 1757 | B38: F | D38: =CONCATENATE(A38,B38) -> 1757F | E38: =VLOOKUP(A38,#REF!,8,0) -> #REF! | F38: =VLOOKUP(A38,#REF!,9,0) -> #REF!
A39: 1742 | B39: F | D39: =CONCATENATE(A39,B39) -> 1742F | E39: =VLOOKUP(A39,#REF!,8,0) -> #REF! | F39: =VLOOKUP(A39,#REF!,9,0) -> #REF!
A40: 1772 | B40: F | D40: =CONCATENATE(A40,B40) -> 1772F | E40: =VLOOKUP(A40,#REF!,8,0) -> #REF! | F40: =VLOOKUP(A40,#REF!,9,0) -> #REF!
A41: 1755 | B41: F | D41: =CONCATENATE(A41,B41) -> 1755F | E41: =VLOOKUP(A41,#REF!,8,0) -> #REF! | F41: =VLOOKUP(A41,#REF!,9,0) -> #REF!
A42: 1785 | B42: F | D42: =CONCATENATE(A42,B42) -> 1785F | E42: =VLOOKUP(A42,#REF!,8,0) -> #REF! | F42: =VLOOKUP(A42,#REF!,9,0) -> #REF!
A43: 1789 | B43: F | D43: =CONCATENATE(A43,B43) -> 1789F | E43: =VLOOKUP(A43,#REF!,8,0) -> #REF! | F43: =VLOOKUP(A43,#REF!,9,0) -> #REF!
... A50: 1794 | B50: F | D50: =CONCATENATE(A50,B50) -> 1794F | E50: =VLOOKUP(A50,#REF!,8,0) -> #REF! | F50: =VLOOKUP(A50,#REF!,9,0) -> #REF!
A70: 1704 | B70: CA | D70: =CONCATENATE(A70,B70) -> 1704CA | E70: =VLOOKUP(A70,#REF!,11,0) -> #REF! | F70: =VLOOKUP(A70,#REF!,18,0) -> #REF!
A71: 1783 | B71: CA | D71: =CONCATENATE(A71,B71) -> 1783CA | E71: =VLOOKUP(A71,#REF!,11,0) -> #REF! | F71: =VLOOKUP(A71,#REF!,18,0) -> #REF!
A72: 1659 | B72: CA | D72: =CONCATENATE(A72,B72) -> 1659CA | E72: =VLOOKUP(A72,#REF!,11,0) -> #REF! | F72: =VLOOKUP(A72,#REF!,18,0) -> #REF!
A73: 1778 | B73: CA | D73: =CONCATENATE(A73,B73) -> 1778CA | E73: =VLOOKUP(A73,#REF!,11,0) -> #REF! | F73: =VLOOKUP(A73,#REF!,18,0) -> #REF!
A74: 1770 | B74: CA | D74: =CONCATENATE(A74,B74) -> 1770CA | E74: =VLOOKUP(A74,#REF!,11,0) -> #REF! | F74: =VLOOKUP(A74,#REF!,18,0) -> #REF!
A75: 1771 | B75: CA | D75: =CONCATENATE(A75,B75) -> 1771CA | E75: =VLOOKUP(A75,#REF!,11,0) -> #REF! | F75: =VLOOKUP(A75,#REF!,18,0) -> #REF!
A76: 1757 | B76: CA | D76: =CONCATENATE(A76,B76) -> 1757CA | E76: =VLOOKUP(A76,#REF!,11,0) -> #REF! | F76: =VLOOKUP(A76,#REF!,18,0) -> #REF!
A77: 1742 | B77: CA | D77: =CONCATENATE(A77,B77) -> 1742CA | E77: =VLOOKUP(A77,#REF!,11,0) -> #REF! | F77: =VLOOKUP(A77,#REF!,18,0) -> #REF!
A78: 1772 | B78: CA | D78: =CONCATENATE(A78,B78) -> 1772CA | E78: =VLOOKUP(A78,#REF!,11,0) -> #REF! | F78: =VLOOKUP(A78,#REF!,18,0) -> #REF!
A79: 1755 | B79: CA | D79: =CONCATENATE(A79,B79) -> 1755CA | E79: =VLOOKUP(A79,#REF!,11,0) -> #REF! | F79: =VLOOKUP(A79,#REF!,18,0) -> #REF!
A80: 1785 | B80: CA | D80: =CONCATENATE(A80,B80) -> 1785CA | E80: =VLOOKUP(A80,#REF!,11,0) -> #REF! | F80: =VLOOKUP(A80,#REF!,18,0) -> #REF!
A81: 1789 | B81: CA | D81: =CONCATENATE(A81,B81) -> 1789CA | E81: =VLOOKUP(A81,#REF!,11,0) -> #REF! | F81: =VLOOKUP(A81,#REF!,18,0) -> #REF!
...

Sheet ABC
A1: REF | B1: Descrição | C1: % | D1: Acumulado | E1: ABC | F1: Valor | L1: Codigo | M1: Descrição | N1: % | O1: Acumulado | P1: ABC
A2: 1010C | B2: VISEIRA TAURUS - SAN MARINO 0.8 MM - CRISTAL | C2: 0.29613198 | D2: 0.29613198 | E2: A | F2: 2.23 | L2: 1232 | M2: BOTÕES COMPAT. C/ TORK - NEW ATOMIC / NEW LIBERTY 3 | TAURUS - JOY 23 - PAR | N2: 0.17765558 | O2: 0.17765558 | P2: A
A3: 1010F | B3: VISEIRA SAN MARINO FUMÊ 1010F | C3: 0.085302607 | D3: 0.38143459 | E3: A | F3: 3.23 | L3: 1097 | M3: BOTÃO SAN MARINO (UND) 1097 | N3: 0.17412321 | O3: 0.35177879 | P3: A
A4: 1744F | B4: VIS 2.2 INJ COMP. C/ TORK - NEW LIBERTY 3 | TAURUS - JOY 23 - FUME | C4: 0.045553983 | D4: 0.42698857 | E4: A | F4: 13.398 | L4: 1231 | M4: BOTÕES FIX DE VIS PRO TORK (NEW LIBERTY 4) / EVOLUTION 788 - PAR | N4: 0.086838507 | O4: 0.43861729 | P4: A
A5: 1744C | B5: VIS 2.2 INJ COMP. C/ TORK - NEW LIBERTY 3 | TAURUS - JOY 23 - CRISTAL | C5: 0.045289506 | D5: 0.47227808 | E5: A | F5: 11.484 | L5: 1096 | M5: KIT REPARO SAN MARINO 1096 | N5: 0.070792036 | O5: 0.50940933 | P5: B
A6: 1232 | B6: BOTÕES COMPAT. C/ TORK - NEW ATOMIC / NEW LIBERTY 3 | TAURUS - JOY 23 - PAR | C6: 0.037658205 | D6: 0.50993628 | E6: B | F6: 4.176 | L6: 1099P | M6: SUPORTE P/ VISEIRA CAP. SAN MARINO PRETO 1099P | N6: 0.062074721 | O6: 0.57148405 | P6: B
A7: 1097 | B7: BOTÃO SAN MARINO (UND) 1097 | C7: 0.036909437 | D7: 0.54684572 | E7: B | F7: 1.131 | L7: 1097SP | M7: BOTÃO SAN MARINO SPP 1097SP | N7: 0.045788628 | O7: 0.61727268 | P7: B
A8: 1728C | B8: VIS 2.2 INJ COMP. C/ PRO TORK 788 CRISTAL 1728C | C8: 0.032525423 | D8: 0.57937114 | E8: B | F8: 11.484 | L8: 1121 | M8: KIT REPARO SAN MARINO - COMPLETO PRETO 1121 | N8: 0.035360901 | O8: 0.65263358 | P8: B
A9: 1644C | B9: VIS 2.2 INJ COMP. C/ TORK - LIBERTY 4 / NEW LIBERTY 4 - CRISTAL 1644C | C9: 0.03211382 | D9: 0.61148496 | E9: B | F9: 11.484 | L9: 1107 | M9: ENGATE RAPIDO MICROMETRICO PARA CAP. (UND) 1107 | N9: 0.030717175 | O9: 0.68335075 | P9: B
A10: 1676C | B10: VISEIRA GOW - INTERLAGOS AUTOMÁTICO | TORK - SM - CRISTAL 1676C | C10: 0.03108919 | D10: 0.64257415 | E10: B | F10: 3.045 | L10: 1234 | M10: KIT COMPLETO FIXADOR DE VISEIRA LS2 (FF358 / FF396) / HELT (STRADA) - PAR | N10: 0.029816523 | O10: 0.71316728 | P10: B
A11: 1231 | B11: BOTÕES FIX DE VIS PRO TORK (NEW LIBERTY 4) / EVOLUTION 788 - PAR | C11: 0.018407428 | D11: 0.66098158 | E11: B | F11: 4.176 | L11: 1191 | M11: KIT FIXAÇÃO HELT - RACE / MT - THUNDER/BLADE (PAR) 1191 | N11: 0.028031746 | O11: 0.74119902 | P11: B
A12: 1096 | B12: KIT REPARO SAN MARINO 1096 | C12: 0.015006008 | D12: 0.67598759 | E12: B | F12: 3.915 | L12: 1181 | M12: ADESIVOS REFLETIVOS C/ 4 UNIDADES 1181 | N12: 0.024854677 | O12: 0.7660537 | P12: B
A13: 1099P | B13: SUPORTE P/ VISEIRA CAP. SAN MARINO PRETO 1099P | C13: 0.013158171 | D13: 0.68914576 | E13: B | F13: 10.44 | L13: 1115 | M13: BORR. SUP. P/ CAP. - PERFIL VIS. (METRO) (OLHOS) 1115 | N13: 0.02283854 | O13: 0.78889224 | P13: B
A14: 1020C | B14: VISEIRA SAN MARINO TAMANHO 62 CRISTAL 1020C | C14: 0.013124017 | D14: 0.70226977 | E14: B | F14: 3.219 | L14: 1233 | M14: BOTÕES FIXADORES DE VISEIRA LS2 (FF358 / FF396) / HELT (STRADA) - PAR | N14: 0.022499762 | O14: 0.811392 | P14: C
A15: 1097SP | B15: BOTÃO SAN MARINO SPP 1097SP | C15: 0.0097059576 | D15: 0.71197573 | E15: B | F15: 0.87 | L15: 1172 | M15: BOTÕES - SHARK- S650 / MIXS - FOKKER | MX5- (PAR) 1172 | N15: 0.015835767 | O15: 0.82722777 | P15: C
A16: 1708C | B16: VIS 2.2 INJ COMP. C/ EBF - E0X CRISTAL 1708C | C16: 0.0096376489 | D16: 0.72161338 | E16: B | F16: 13.746 | L16: 1237 | M16: KIT FIXAÇÃO COMPAT. C/ EBF - E0X / NEW SPARK | N16: 0.014257562 | O16: 0.84148533 | P16: C
A17: 1728F | B17: VIS 2.2 INJ COMP. C/ PRO TORK 788 FUME 1728F | C17: 0.0082101734 | D17: 0.72982355 | E17: B | F17: 13.746 | L17: 1090P | M17: PALA CAP WIND/EBF CITY/ROOCKIE KIDS A PRETA 1090P | N17: 0.013505641 | O17: 0.85499097 | P17: C
A18: 1676F | B18: VISEIRA GOW - INTERLAGOS AUTOMÁTICO | TORK - SM - FUMÊ 1676F | C18: 0.0076864738 | D18: 0.73751003 | E18: B | F18: 3.48 | L18: 1238 | M18: KIT FIXAÇÃO COMPAT. C/ LS2 - FF320 - STREAM / FF353 - RAPID | N18: 0.010902841 | O18: 0.86589381 | P18: C
A19: 1121 | B19: KIT REPARO SAN MARINO - COMPLETO PRETO 1121 | C19: 0.0074955599 | D19: 0.74500559 | E19: B | F19: 5.481 | L19: 1249 | M19: NARIGUEIRA BIG UNIVERSAL | N19: 0.0096138353 | O19: 0.87550765 | P19: C
A20: 1736F | B20: VIS 2.2 INJ COMP. C/ LS2 (FF358 / FF396) / HELT (STRADA) - FUMÊ - 1736F L | C20: 0.0067476679 | D20: 0.75175326 | E20: B | F20: 24.882 | L20: 1168 | M20: CINTA JUGULAR C/ ENGATE MICROMETRICO 1168 | N20: 0.0088164695 | O20: 0.88432412 | P20: C
A21: 1743C | B21: VIS 2.2 INJ COMP. C/ FÓRMULA 1 R CRISTAL | C21: 0.0066600927 | D21: 0.75841335 | E21: B | F21: 11.484 | L21: 1242 | M21: NARIGUEIRA UNIVERSAL | N21: 0.007915818 | O21: 0.89223994 | P21: C
A22: 1639C | B22: VIS 2.2 INJ COMP. C/ EBF FIT 08 / EBF ROX / EBF 7 1639C | C22: 0.0065155936 | D22: 0.76492894 | E22: B | F22: 11.484 | L22: 1241 | M22: NARIGUEIRA COMP. C/ LS2 - FF358 | N22: 0.0078414523 | O22: 0.90008139 | P22: C
A23: 1107 | B23: ENGATE RAPIDO MICROMETRICO PARA CAP. (UND) 1107 | C23: 0.0065112149 | D23: 0.77144016 | E23: B | F23: 7.395 | L23: 1178 | M23: KIT FIXAÇÃO VAZ - V10/V100 (NOVO C/ BOTÃO) (PAR) 1178 | N23: 0.0077051151 | O23: 0.9077865 | P23: C
A24: 1234 | B24: KIT COMPLETO FIXADOR DE VISEIRA LS2 (FF358 / FF396) / HELT (STRADA) - PAR | C24: 0.006320301 | D24: 0.77776046 | E24: B | F24: 14.355 | L24: 1248 | M24: BOTÕES COMP C/ AGV - BLADE (PAR) | N24: 0.0072961036 | O24: 0.91508261 | P24: C
A25: 1590C | B25: VISEIRA PRO TORK LIBERTY 4 CRISTAL 1590C | C25: 0.006203826 | D25: 0.78396428 | E25: B | F25: 3.48 | L25: 1250 | M25: NARIGUEIRA BIG COMP. COM LS2 FF358 | N25: 0.0068003322 | O25: 0.92188294 | P25: C
A26: 1191 | B26: KIT FIXAÇÃO HELT - RACE / MT - THUNDER/BLADE (PAR) 1191 | C26: 0.0059419762 | D26: 0.78990626 | E26: B | F26: 6.351 | L26: 1177 | M26: KIT FIXAÇÃO LS2 FF350 (PAR) 1177 | N26: 0.0067300979 | O26: 0.92861304 | P26: C
A27: 1714C | B27: VIS 2.2 INJ COMP. C/ ZARREF (NOVO) V2 / V3 - CRISTAL 1714C | C27: 0.0059288399 | D27: 0.7958351 | E27: B | F27: 11.484 | L27: 1225P | M27: SUPORTE P/ VISEIRA CAP. GOW INTERLAGOS AUTOMÁTICO | N27: 0.0065317893 | O27: 0.93514483 | P27: C
A28: 1744Ca | B28: VIS 2.2 INJ COMP. C/ TORK - NEW LIBERTY 3 | TAURUS - JOY 23 - CAMALEAO | C28: 0.005628457 | D28: 0.80146356 | E28: C | F28: 35.235 | L28: 1235 | M28: KIT FIXAÇÃO - NORISK - FF 391 / FF 389 | N28: 0.0065276579 | O28: 0.94167249 | P28: C
A29: 1181 | B29: ADESIVOS REFLETIVOS C/ 4 UNIDADES 1181 | C29: 0.005268523 | D29: 0.80673208 | E29: C | F29: 1.653 | L29: 1193 | M29: PLACA LATERAL PRO TORK LIBERTY 4 (2007) 1193 | N29: 0.0053419377 | O29: 0.94701442 | P29: C
A30: 1115 | B30: BORR. SUP. P/ CAP. - PERFIL VIS. (METRO) (OLHOS) 1115 | C30: 0.0048411561 | D30: 0.81157324 | E30: C | F30: 2.436 | L30: 1236 | M30: KIT FIXAÇÃO - AGV - K3 / K4 | N30: 0.0049329262 | O30: 0.95194735 | P30: C
A31: 1233 | B31: BOTÕES FIXADORES DE VISEIRA LS2 (FF358 / FF396) / HELT (STRADA) - PAR | C31: 0.0047693445 | D31: 0.81634258 | E31: C | F31: 9.57 | L31: 1186 | M31: SUPORTE P/ CAPACETES ( CAIXA C/ 5 UNID.) 1186 | N31: 0.0047511434 | O31: 0.95669849 | P31: C
A32: 1557C | B32: VIS PRO TORK LIBERTY THREE CRISTAL 1557C | C32: 0.0043840137 | D32: 0.82072659 | E32: C | F32: 3.915 | L32: 1104 | M32: PARAF LAT THUNDER OPEN / MEGATRON AUTOMÁTICO / 1104 | N32: 0.0046643834 | O32: 0.96136288 | P32: C
A33: 1703C | B33: VIS 2.2 INJ COMP. C/ HELT - RACE | MT - THUNDER / BLADE - CRISTAL | C33: 0.0041904725 | D33: 0.82491707 | E33: C | F33: 22.968 | L33: 1210 | M33: PLACA LAT. EBF FIT 08 / EBF ROX / EBF 7 2.0 PRETA 1210 | N33: 0.0044619433 | O33: 0.96582482 | P33: C
A34: 1230 | B34: KIT FIXAÇÃO COMPATÍVEL COM TAURUS - FÓRMULA 1R | C34: 0.0041037731 | D34: 0.82902084 | E34: C | F34: 5.22 | L34: 1252P | M34: SUPORTE P/ VISEIRA CAP. PROTORK - SPORT MOTO ( SM ) - AUTOMÁTICO - 1252P | N34: 0.0041768747 | O34: 0.97000169 | P34: C
A35: 1736CA | B35: VIS 2.2 INJ COMP. C/ LS2 (FF358 / FF396) / HELT (STRADA) - CAMALEÃO | C35: 0.0038314143 | D35: 0.83285225 | E35: C | F35: 35.235 | L35: 1206 | M35: LIMPADOR VISEIRAS E LENTES (SPRAY) 1206 | N35: 0.0032018575 | O35: 0.97320355 | P35: C
A36: 1020F | B36: VISEIRA SAN MARINO TAMANHO 62 FUMÊ 1020F | C36: 0.0038191537 | D36: 0.83667141 | E36: C | F36: 4.698 | L36: 1137 | M36: MOLAS PARA CAPACETE SAN MARINO (PAR) 1137 | N36: 0.0031935946 | O36: 0.97639715 | P36: C
A37: 1728CA | B37: VIS 2.2 INJ COMP. C/ PRO TORK 788 CAMALEÃO 1728CA | C37: 0.0037131878 | D37: 0.8403846 | E37: C | F37: 31.581 | L37: 1090B | M37: PALA CAP WIND/EBF CITY/ROOCKIE KIDS A BRANCA 1090B | N37: 0.0029126575 | O37: 0.9793098 | P37: C
A38: 1759C | B38: VIS 2.2 INJ COMP. C/ SAN MARINO CRISTAL | C38: 0.0035862038 | D38: 0.8439708 | E38: C | F38: 6.351 | L38: 1254 | M38: MECANISMO + BOTÕES COMP C/ AGV - BLADE (PAR) | N38: 0.0026317203 | O38: 0.98194152 | P38: C
A39: 1172 | B39: BOTÕES - SHARK- S650 / MIXS - FOKKER | MX5- (PAR) 1172 | C39: 0.0033567568 | D39: 0.84732756 | E39: C | F39: 14.355 | L39: 1239 | M39: KIT FIXAÇÃO (CHASSI) - FOKKER | MX5 - (PAR) 1239 | N39: 0.0024086231 | O39: 0.98435015 | P39: C
A40: 1644F | B40: VIS 2.2 INJ COMP. C/ TORK - LIBERTY 4 / NEW LIBERTY 4 - FUMÊ | C40: 0.0032271455 | D40: 0.8505547 | E40: C | F40: 13.746 | L40: 1224 | M40: KIT FIX - GOW - INTERLAGOS AUT - MOLAS, TRAVAS INT, PAR, ARRUELAS E TAMPAS | N40: 0.0022929431 | O40: 0.98664309 | P40: C
...

Sheet TABELA TODOS ITENS  PARA TROCA
B1: TABELA DE RESGATE - CLUBE DA VISEIRA - SETEMBRO 2026 | F1: CLUBE DA VISEIRA
B2: QTD | C2: REF | D2: Descrição | E2: Grupo | F2: Ponto p/Troca | G2: Total
C3: 1728F | D3: VIS 2.2 INJ COMP. C/ PRO TORK 788 FUME 1728F ( PROMOÇÃO) | E3: Viseira Injetada 2.2 | F3: 33 | G3: =B3*F3 -> 0
C4: 1728CA | D4: VIS 2.2 INJ COMP. C/ PRO TORK 788 CAMALEÃO 1728CA ( PROMOÇÃO) | E4: Viseira Metalizada 2.2 | F4: 70 | G4: =B4*F4 -> 0
C5: 1728CR | D5: VIS 2.2 INJ COMP. C/ PRO TORK 788 CROMADA 1728CR ( PROMOÇÃO) | E5: Viseira Metalizada 2.2 | F5: 50 | G5: =B5*F5 -> 0
C6: 1728DO | D6: VIS 2.2 INJ COMP. C/ PRO TORK 788 DOURADA 1728DO ( PROMOÇÃO) | E6: Viseira Metalizada 2.2 | F6: 40 | G6: =B6*F6 -> 0
C7: 1728IR | D7: VIS 2.2 INJ COMP. C/ PRO TORK 788 IRIDIUM 1728IR ( PROMOÇÃO) | E7: Viseira Metalizada 2.2 | F7: 50 | G7: =B7*F7 -> 0
C8: 1801C | D8: VIS 2.2 INJ COMP. C/ KYT - TT COURSE - CRISTAL - 1801C (LANÇAMENTO) | E8: Viseira Injetada 2.2 | F8: 57 | G8: =B8*F8 -> 0
C9: 1801CA | D9: VIS 2.2 INJ COMP. C/ KYT - TT COURSE - CAMALEÃO- 1801CA (LANÇAMENTO) | E9: Viseira Metalizada 2.2 | F9: 100 | G9: =B9*F9 -> 0
C10: 1801CAL | D10: VIS 2.2 INJ COMP. C/ KYT - TT COURSE - CAMALEÃO LIGHT - 1801CAL (LANÇAMENTO) | E10: Viseira Metalizada 2.2 | F10: 100 | G10: =B10*F10 -> 0
C11: 1801CR | D11: VIS 2.2 INJ COMP. C/ KYT - TT COURSE - CROMADA - 1801CR (LANÇAMENTO) | E11: Viseira Metalizada 2.2 | F11: 100 | G11: =B11*F11 -> 0
C12: 1801CRL | D12: VIS 2.2 INJ COMP. C/ KYT - TT COURSE - CROMADA LIGHT - 1801CRL (LANÇAMENTO) | E12: Viseira Metalizada 2.2 | F12: 100 | G12: =B12*F12 -> 0
C13: 1801DO | D13: VIS 2.2 INJ COMP. C/ KYT - TT COURSE - DOURADA - 1801DO (LANÇAMENTO) | E13: Viseira Metalizada 2.2 | F13: 100 | G13: =B13*F13 -> 0
C14: 1801DOL | D14: VIS 2.2 INJ COMP. C/ KYT - TT COURSE - DOURADA LIGHT - 1801DOL (LANÇAMENTO) | E14: Viseira Metalizada 2.2 | F14: 100 | G14: =B14*F14 -> 0
... C19: 1801PIL | D19: VIS 2.2 INJ COMP. C/ KYT - TT COURSE - PINK LIGHT - 1801PIL (LANÇAMENTO) | E19: Viseira Metalizada 2.2 | F19: 100 | G19: =B19*F19 -> 0
C20: 1096 | D20: KIT REPARO SAN MARINO 1096 | E20: Acessórios Vendas | F20: 13 | G20: =B20*F20 -> 0
C21: 1097 | D21: BOTÃO SAN MARINO (UND) 1097 | E21: Acessórios Vendas | F21: 4 | G21: =B21*F21 -> 0
C22: 1102 | D22: PARAFUSO LATERAL ZARREF PRETO (UND) 1102 | E22: Acessórios Vendas | F22: 5 | G22: =B22*F22 -> 0
C23: 1104 | D23: PARAF LAT THUNDER OPEN / MEGATRON AUTOMÁTICO / 1104 | E23: Acessórios Vendas | F23: 7 | G23: =B23*F23 -> 0
C24: 1107 | D24: ENGATE RAPIDO MICROMETRICO PARA CAP. (UND) 1107 | E24: Acessórios Vendas | F24: 22 | G24: =B24*F24 -> 0
C25: 1110 | D25: PLACA LATERAL DO BOTÃO SAN MARINO / TARGA R (UND) 1110 | E25: Acessórios Vendas | F25: 6 | G25: =B25*F25 -> 0
C26: 1115 | D26: BORR. SUP. P/ CAP. - PERFIL VIS. (METRO) (OLHOS) 1115 | E26: Acessórios Vendas | F26: 10 | G26: =B26*F26 -> 0
C27: 1116 | D27: BORR. INFERIOR P/ CAP. - PERFIL T (EM VOLTA DO PES 1116 | E27: Acessórios Vendas | F27: 13 | G27: =B27*F27 -> 0
C28: 1121 | D28: KIT REPARO SAN MARINO - COMPLETO PRETO 1121 | E28: Acessórios Vendas | F28: 18 | G28: =B28*F28 -> 0
C29: 1137 | D29: MOLAS PARA CAPACETE SAN MARINO (PAR) 1137 | E29: Acessórios Vendas | F29: 5 | G29: =B29*F29 -> 0
C30: 1148 | D30: PLACA LATERAL HGF T/H COM PINOS (PAR) 1148 | E30: Acessórios Vendas | F30: 13 | G30: =B30*F30 -> 0
C31: 1150 | D31: KIT FIXAÇÃO VAZ V10 / V100 - ANTIGO (PAR) 1150 | E31: Acessórios Vendas | F31: 20 | G31: =B31*F31 -> 0
... C77: 1271 | D77: KIT FIXAÇÃO COMP. C/ NORISK - ORION | ASTONE - KSR-2 - 1271 | E77: Acessórios Vendas | F77: 100 | G77: =B77*F77 -> 0
C78: 1090B | D78: PALA CAP WIND/EBF CITY/ROOCKIE KIDS A BRANCA 1090B | E78: Acessórios Vendas | F78: 17 | G78: =B78*F78 -> 0
C79: 1090P | D79: PALA CAP WIND/EBF CITY/ROOCKIE KIDS A PRETA 1090P | E79: Acessórios Vendas | F79: 17 | G79: =B79*F79 -> 0
C80: 1090VM | D80: PALA CAP WIND/EBF CITY/ROOCKIE KIDS A VERMELHA 1090VM | E80: Acessórios Vendas | F80: 17 | G80: =B80*F80 -> 0
C81: 1097SP | D81: BOTÃO SAN MARINO SPP 1097SP | E81: Acessórios Vendas | F81: 27 | G81: =B81*F81 -> 0
C82: 1099P | D82: SUPORTE P/ VISEIRA CAP. SAN MARINO PRETO 1099P | E82: Acessórios Vendas | F82: 27 | G82: =B82*F82 -> 0
C83: 1225P | D83: SUPORTE P/ VISEIRA CAP. GOW INTERLAGOS AUTOMÁTICO | E83: Acessórios Vendas | F83: 33 | G83: =B83*F83 -> 0
C84: 1252P | D84: SUPORTE P/ VISEIRA CAP. PROTORK - SPORT MOTO ( SM ) - AUTOMÁTICO - 1252P | E84: Acessórios Vendas | F84: 33 | G84: =B84*F84 -> 0
C85: 1169C | D85: LENTE PRO TORK POLI 0.8 CRISTAL 1169C | E85: Lentes | F85: 7 | G85: =B85*F85 -> 0
C86: 1169F | D86: LENTE PRO TORK POLI 0.8 FUME 1169F | E86: Lentes | F86: 11 | G86: =B86*F86 -> 0
C87: 1170C | D87: LENTE PRO TORK POLI 1.0 CRISTAL 1170C | E87: Lentes | F87: 11 | G87: =B87*F87 -> 0
C88: 1216C | D88: LENTE URBAN / CROSS 1.0 (LINHA 2010) \ CRISTAL 1216C | E88: Lentes | F88: 7 | G88: =B88*F88 -> 0
C89: 1230 | D89: KIT FIXAÇÃO COMPATÍVEL COM TAURUS - FÓRMULA 1R | E89: Viseira Injetada 2.2 | F89: 17 | G89: =B89*F89 -> 0
...

Sheet TABELA PARA TROCA (REF)
A1: TABELA DE RESGATE - CLUBE DA VISEIRA - SETEMBRO 2026
A2: PEDIDO DE TROCA DE PONTOS
A3: Seq | B3: Qtd | C3: REF | D3: Descrição | E3: Valor | F3: Total
A4: 1 | D4: =IFERROR(VLOOKUP(C4,'TABELA TODOS ITENS PARA TROCA'!$C:$E,2,0),0) -> 0 | E4: =IFERROR(VLOOKUP(C4,'TABELA TODOS ITENS PARA TROCA'!$C:$G,4,0),0) -> 0 | F4: =B4*E4 -> 0
A5: 2 | D5: =IFERROR(VLOOKUP(C5,'TABELA TODOS ITENS PARA TROCA'!$C:$E,2,0),0) -> 0 | E5: =IFERROR(VLOOKUP(C5,'TABELA TODOS ITENS PARA TROCA'!$C:$G,4,0),0) -> 0 | F5: =B5*E5 -> 0
A6: =A5+1 -> 3 | D6: =IFERROR(VLOOKUP(C6,'TABELA TODOS ITENS PARA TROCA'!$C:$E,2,0),0) -> 0 | E6: =IFERROR(VLOOKUP(C6,'TABELA TODOS ITENS PARA TROCA'!$C:$G,4,0),0) -> 0 | F6: =B6*E6 -> 0
A7: =A6+1 -> 4 | D7: =IFERROR(VLOOKUP(C7,'TABELA TODOS ITENS PARA TROCA'!$C:$E,2,0),0) -> 0 | E7: =IFERROR(VLOOKUP(C7,'TABELA TODOS ITENS PARA TROCA'!$C:$G,4,0),0) -> 0 | F7: =B7*E7 -> 0
A8: =A7+1 -> 5 | D8: =IFERROR(VLOOKUP(C8,'TABELA TODOS ITENS PARA TROCA'!$C:$E,2,0),0) -> 0 | E8: =IFERROR(VLOOKUP(C8,'TABELA TODOS ITENS PARA TROCA'!$C:$G,4,0),0) -> 0 | F8: =B8*E8 -> 0
A9: =A8+1 -> 6 | D9: =IFERROR(VLOOKUP(C9,'TABELA TODOS ITENS PARA TROCA'!$C:$E,2,0),0) -> 0 | E9: =IFERROR(VLOOKUP(C9,'TABELA TODOS ITENS PARA TROCA'!$C:$G,4,0),0) -> 0 | F9: =B9*E9 -> 0
A10: =A9+1 -> 7 | D10: =IFERROR(VLOOKUP(C10,'TABELA TODOS ITENS PARA TROCA'!$C:$E,2,0),0) -> 0 | E10: =IFERROR(VLOOKUP(C10,'TABELA TODOS ITENS PARA TROCA'!$C:$G,4,0),0) -> 0 | F10: =B10*E10 -> 0
A11: =A10+1 -> 8 | D11: =IFERROR(VLOOKUP(C11,'TABELA TODOS ITENS PARA TROCA'!$C:$E,2,0),0) -> 0 | E11: =IFERROR(VLOOKUP(C11,'TABELA TODOS ITENS PARA TROCA'!$C:$G,4,0),0) -> 0 | F11: =B11*E11 -> 0
A12: =A11+1 -> 9 | D12: =IFERROR(VLOOKUP(C12,'TABELA TODOS ITENS PARA TROCA'!$C:$E,2,0),0) -> 0 | E12: =IFERROR(VLOOKUP(C12,'TABELA TODOS ITENS PARA TROCA'!$C:$G,4,0),0) -> 0 | F12: =B12*E12 -> 0
A13: =A12+1 -> 10 | D13: =IFERROR(VLOOKUP(C13,'TABELA TODOS ITENS PARA TROCA'!$C:$E,2,0),0) -> 0 | E13: =IFERROR(VLOOKUP(C13,'TABELA TODOS ITENS PARA TROCA'!$C:$G,4,0),0) -> 0 | F13: =B13*E13 -> 0
A14: =A13+1 -> 11 | D14: =IFERROR(VLOOKUP(C14,'TABELA TODOS ITENS PARA TROCA'!$C:$E,2,0),0) -> 0 | E14: =IFERROR(VLOOKUP(C14,'TABELA TODOS ITENS PARA TROCA'!$C:$G,4,0),0) -> 0 | F14: =B14*E14 -> 0
A15: =A14+1 -> 12 | D15: =IFERROR(VLOOKUP(C15,'TABELA TODOS ITENS PARA TROCA'!$C:$E,2,0),0) -> 0 | E15: =IFERROR(VLOOKUP(C15,'TABELA TODOS ITENS PARA TROCA'!$C:$G,4,0),0) -> 0 | F15: =B15*E15 -> 0
A16: =A15+1 -> 13 | D16: =IFERROR(VLOOKUP(C16,'TABELA TODOS ITENS PARA TROCA'!$C:$E,2,0),0) -> 0 | E16: =IFERROR(VLOOKUP(C16,'TABELA TODOS ITENS PARA TROCA'!$C:$G,4,0),0) -> 0 | F16: =B16*E16 -> 0
A17: =A16+1 -> 14 | D17: =IFERROR(VLOOKUP(C17,'TABELA TODOS ITENS PARA TROCA'!$C:$E,2,0),0) -> 0 | E17: =IFERROR(VLOOKUP(C17,'TABELA TODOS ITENS PARA TROCA'!$C:$G,4,0),0) -> 0 | F17: =B17*E17 -> 0
A18: =A17+1 -> 15 | D18: =IFERROR(VLOOKUP(C18,'TABELA TODOS ITENS PARA TROCA'!$C:$E,2,0),0) -> 0 | E18: =IFERROR(VLOOKUP(C18,'TABELA TODOS ITENS PARA TROCA'!$C:$G,4,0),0) -> 0 | F18: =B18*E18 -> 0
B19: =SUM(B4:B18) -> 0 | F19: =SUM(F4:F18) -> 0
A21: Cliente: | E21: UF:
A22: Cidade: | E22: Bairro:
A23: Endereço: | E23: CEP:
A24: CNPJ: | E24: I.E.:
A25: Email: | E25: Telefone:
A26: Transp. | E26: Cond. Pg.
A28: Obs.: | C28: PEDIDO DE BONIFICAÇÃO PARA TROCA DE PONTOS DO CLUBE DA VISEIRA
